BEGIN:VCALENDAR
VERSION:2.0
PRODID:-//Northern Essex CC - ECPv6.15.12//NONSGML v1.0//EN
CALSCALE:GREGORIAN
METHOD:PUBLISH
X-WR-CALNAME:Northern Essex CC
X-ORIGINAL-URL:https://necc.edu
X-WR-CALDESC:Events for Northern Essex CC
REFRESH-INTERVAL;VALUE=DURATION:PT1H
X-Robots-Tag:noindex
X-PUBLISHED-TTL:PT1H
BEGIN:VTIMEZONE
TZID:America/New_York
BEGIN:DAYLIGHT
TZOFFSETFROM:-0500
TZOFFSETTO:-0400
TZNAME:EDT
DTSTART:20230312T070000
END:DAYLIGHT
BEGIN:STANDARD
TZOFFSETFROM:-0400
TZOFFSETTO:-0500
TZNAME:EST
DTSTART:20231105T060000
END:STANDARD
BEGIN:DAYLIGHT
TZOFFSETFROM:-0500
TZOFFSETTO:-0400
TZNAME:EDT
DTSTART:20240310T070000
END:DAYLIGHT
BEGIN:STANDARD
TZOFFSETFROM:-0400
TZOFFSETTO:-0500
TZNAME:EST
DTSTART:20241103T060000
END:STANDARD
BEGIN:DAYLIGHT
TZOFFSETFROM:-0500
TZOFFSETTO:-0400
TZNAME:EDT
DTSTART:20250309T070000
END:DAYLIGHT
BEGIN:STANDARD
TZOFFSETFROM:-0400
TZOFFSETTO:-0500
TZNAME:EST
DTSTART:20251102T060000
END:STANDARD
BEGIN:DAYLIGHT
TZOFFSETFROM:-0500
TZOFFSETTO:-0400
TZNAME:EDT
DTSTART:20260308T070000
END:DAYLIGHT
BEGIN:STANDARD
TZOFFSETFROM:-0400
TZOFFSETTO:-0500
TZNAME:EST
DTSTART:20261101T060000
END:STANDARD
END:VTIMEZONE
BEGIN:VEVENT
DTSTART;TZID=America/New_York:20251207T140000
DTEND;TZID=America/New_York:20251207T160000
DTSTAMP:20260422T172815
CREATED:20251002T140825Z
LAST-MODIFIED:20251006T191723Z
UID:10011060-1765116000-1765123200@necc.edu
SUMMARY:NECC Choir Winter Concert
DESCRIPTION:Please join us as the NECC Chorus Ensemble presents their Winter Concert.  It will be a musical journey across centuries and genres\, featuring works from the Baroque era through Broadway and Disney favorites. A festive concert perfect for audiences of all ages. \nAdmission is $5.   \n  \n Print View
URL:https://necc.edu/event/necc-choir-winter-concert/
LOCATION:Haverhill Campus\, 100 Elliott St\, Haverhill\, MA\, United States
CATEGORIES:Student Life
ORGANIZER;CN="Alisa Bucchiere":MAILTO:abucchiere@necc.mass.edu
GEO:42.797649;-71.05113
X-APPLE-STRUCTURED-LOCATION;VALUE=URI;X-ADDRESS=Haverhill Campus 100 Elliott St Haverhill MA United States;X-APPLE-RADIUS=500;X-TITLE=100 Elliott St:geo:-71.05113,42.797649
END:VEVENT
BEGIN:VEVENT
DTSTART;TZID=America/New_York:20251120T120000
DTEND;TZID=America/New_York:20251120T130000
DTSTAMP:20260422T172815
CREATED:20251002T140141Z
LAST-MODIFIED:20251006T191650Z
UID:10011059-1763640000-1763643600@necc.edu
SUMMARY:Bach's Lunch Concert Series
DESCRIPTION:Now in its fourth year\, the Bach’s Lunch series offers midday performances by NECC faculty and guest artists for our NECC Community. This fall’s program first concert features Prof. Alisa Bucchiere (piano)\, Dr. Eileen Yarrison (flute)\, and Prof. Abe Finch (percussion)\, performing works from the 1600s to the present day. Bring your lunch\, enjoy complimentary coffee and donuts\, and experience an inspiring break in your day. \nThursday\, 11/20 from 12:00 – 1:00 on the Haverhill campus in TC103 \nFree admission \n Print View
URL:https://necc.edu/event/bachs-lunch-concert-series/
LOCATION:Haverhill Campus\, 100 Elliott St\, Haverhill\, MA\, United States
CATEGORIES:Student Life
ORGANIZER;CN="Alisa Bucchiere":MAILTO:abucchiere@necc.mass.edu
GEO:42.797649;-71.05113
X-APPLE-STRUCTURED-LOCATION;VALUE=URI;X-ADDRESS=Haverhill Campus 100 Elliott St Haverhill MA United States;X-APPLE-RADIUS=500;X-TITLE=100 Elliott St:geo:-71.05113,42.797649
END:VEVENT
BEGIN:VEVENT
DTSTART;TZID=America/New_York:20251022T190000
DTEND;TZID=America/New_York:20251022T210000
DTSTAMP:20260422T172815
CREATED:20251002T135710Z
LAST-MODIFIED:20251006T191620Z
UID:10011057-1761159600-1761166800@necc.edu
SUMMARY:29th Music Cabaret
DESCRIPTION:Now in its 29th semester\, this beloved tradition brings together the Choral and Music Club with the NECC Music Department for an evening of diverse performances—spanning Broadway\, jazz\, contemporary hits\, and student originals. More than just entertainment\, the Cabaret is also a fundraiser supporting future music program field trips and the Bonnie Surowiec Music Scholarship Fund\, honoring a 2009 NECC graduate. Expect a lively\, welcoming atmosphere where the stage is open to students\, faculty\, and community members alike.  $5 Admission \nWhen: Wednesday\, 10/22 at 7:00 pm  \nWhere: Haverhill campus TC103 \nAdmission: $5  \nSpeak with Professor Bucchiere if you are interested in performing in this concert   \n Print View
URL:https://necc.edu/event/29th-music-cabaret/
LOCATION:Haverhill Campus\, 100 Elliott St\, Haverhill\, MA\, United States
CATEGORIES:Student Life
ORGANIZER;CN="Alisa Bucchiere":MAILTO:abucchiere@necc.mass.edu
GEO:42.797649;-71.05113
X-APPLE-STRUCTURED-LOCATION;VALUE=URI;X-ADDRESS=Haverhill Campus 100 Elliott St Haverhill MA United States;X-APPLE-RADIUS=500;X-TITLE=100 Elliott St:geo:-71.05113,42.797649
END:VEVENT
BEGIN:VEVENT
DTSTART;TZID=America/New_York:20251021T180000
DTEND;TZID=America/New_York:20251021T210000
DTSTAMP:20260422T172815
CREATED:20251006T175914Z
LAST-MODIFIED:20251006T175914Z
UID:10011068-1761069600-1761080400@necc.edu
SUMMARY:NECC Christmas Carol Auditions
DESCRIPTION:This annual community-wide production brings Dickens’ classic tale to life with music\, theater\, and a multigenerational cast. Directed by John Budzyna with music direction/producing by Professor Alisa Bucchiere\, the show has a rich history of including students\, alumni\, faculty\, staff\, and their families. All are welcome to audition—no matter your level of experience. Come be part of this tradition that blends holiday spirit with artistic collaboration. \n  \nAuditions will be held on Tuesday\, October 21\, 2025 in Lecture Hall A – Spurk building\, 1st floor.  \n6:00 – 7:00 pm for children 5 – 15 \n7:00 – 9:00 pm for adults 16 and older \n  \nPlease sign up at the link below: \nhttps://www.signupgenius.com/go/9040B4DACAA2EA7F94-59306501-christmas \n  \nQuestions?  Contact Alisa Bucchiere  \n  \n Print View
URL:https://necc.edu/event/necc-christmas-carol-auditions/
LOCATION:Haverhill Campus\, 100 Elliott St\, Haverhill\, MA\, United States
CATEGORIES:Student Life
ORGANIZER;CN="Alisa Bucchiere":MAILTO:abucchiere@necc.mass.edu
GEO:42.797649;-71.05113
X-APPLE-STRUCTURED-LOCATION;VALUE=URI;X-ADDRESS=Haverhill Campus 100 Elliott St Haverhill MA United States;X-APPLE-RADIUS=500;X-TITLE=100 Elliott St:geo:-71.05113,42.797649
END:VEVENT
BEGIN:VEVENT
DTSTART;TZID=America/New_York:20251021T133000
DTEND;TZID=America/New_York:20251021T153000
DTSTAMP:20260422T172815
CREATED:20251002T134859Z
LAST-MODIFIED:20251006T191549Z
UID:10011056-1761053400-1761060600@necc.edu
SUMMARY:Performance Workshop Mid-Term Music Performances
DESCRIPTION:The Performance Workshop midterms transform the classroom into a concert stage as students present duets\, trios\, quartets\, and quintets across a wide range of musical styles. These showcases offer a unique chance to hear musicians at a formative stage in their journey—exploring repertoire\, refining technique\, and learning the art of live performance. Join us to witness growth in action and celebrate the progress of our talented student performers. \nFree admission \nWhen: Tuesday\, October 21 from 1:30-3:30 \nWhere: Haverhill campus TC103 \n  \n Print View
URL:https://necc.edu/event/performance-workshop-mid-term-music-performances/
LOCATION:Haverhill Campus\, 100 Elliott St\, Haverhill\, MA\, United States
CATEGORIES:Student Life
ORGANIZER;CN="Alisa Bucchiere":MAILTO:abucchiere@necc.mass.edu
GEO:42.797649;-71.05113
X-APPLE-STRUCTURED-LOCATION;VALUE=URI;X-ADDRESS=Haverhill Campus 100 Elliott St Haverhill MA United States;X-APPLE-RADIUS=500;X-TITLE=100 Elliott St:geo:-71.05113,42.797649
END:VEVENT
BEGIN:VEVENT
DTSTART;TZID=America/New_York:20251002T120000
DTEND;TZID=America/New_York:20251002T130000
DTSTAMP:20260422T172815
CREATED:20251002T134504Z
LAST-MODIFIED:20251002T134505Z
UID:10011055-1759406400-1759410000@necc.edu
SUMMARY:Boomwhackers/Drum Circle
DESCRIPTION:Professors Alisa Bucchiere and Abe Finch will present a FUN and LOUD boomwhacker and drum filled event – We hope to play over 200 boomwhackers together along with performing in a drum circle\, and even using some drums made from buckets!!! It will probably be one of the loudest events on campus his semester!   \nCome one come all if you have ever wanted to try the boomwhackers or drums!  Free admission. \nWhen: Thursday\, 10/2 at noon \nWhere:  Haverhill campus TC103 \n Print View
URL:https://necc.edu/event/boomwhackers-drum-circle/
LOCATION:Haverhill Campus\, 100 Elliott St\, Haverhill\, MA\, United States
CATEGORIES:Student Life
ORGANIZER;CN="Alisa Bucchiere":MAILTO:abucchiere@necc.mass.edu
GEO:42.797649;-71.05113
X-APPLE-STRUCTURED-LOCATION;VALUE=URI;X-ADDRESS=Haverhill Campus 100 Elliott St Haverhill MA United States;X-APPLE-RADIUS=500;X-TITLE=100 Elliott St:geo:-71.05113,42.797649
END:VEVENT
BEGIN:VEVENT
DTSTART;TZID=America/New_York:20250506T133000
DTEND;TZID=America/New_York:20250506T153000
DTSTAMP:20260422T172815
CREATED:20250212T183754Z
LAST-MODIFIED:20250411T165022Z
UID:10009473-1746538200-1746545400@necc.edu
SUMMARY:Music Student Performance Exams
DESCRIPTION:The Performance Workshop class is all about learning how to perform music! Our music students will be presenting duets\, trios\, quartets and quintets! \nCome be an audience member to see how our student musicians grow in their craft!   \n  \nFree admission. \n  \nProfessor Alisa Bucchiere\nMusic Coordinator\n#NECCMusicThrives \n Print View
URL:https://necc.edu/event/performance-workshop-student-final-performance-exams/
LOCATION:Haverhill Campus\, 100 Elliott St\, Haverhill\, MA\, United States
CATEGORIES:Home Page Events,Student Life
ORGANIZER;CN="Alisa Bucchiere":MAILTO:abucchiere@necc.mass.edu
GEO:42.797649;-71.05113
X-APPLE-STRUCTURED-LOCATION;VALUE=URI;X-ADDRESS=Haverhill Campus 100 Elliott St Haverhill MA United States;X-APPLE-RADIUS=500;X-TITLE=100 Elliott St:geo:-71.05113,42.797649
END:VEVENT
BEGIN:VEVENT
DTSTART;TZID=America/New_York:20250504T140000
DTEND;TZID=America/New_York:20250504T160000
DTSTAMP:20260422T172815
CREATED:20250212T183447Z
LAST-MODIFIED:20250428T191747Z
UID:10009472-1746367200-1746374400@necc.edu
SUMMARY:NECC Choir Concert
DESCRIPTION:The NECC Chorus will present their Spring Concert.  Music from the 1600’s all the way to Broadway and Disney will be presented.    \nThis event will raise money for our memorial Music Scholarship fund in honor of Bonnie Surowiec a 2009 NECC Music graduate.   \nAdmission is $5. \n  \nProfessor Alisa Bucchiere\nMusic Coordinator\n#NECCMusicThrives \n Print View
URL:https://necc.edu/event/necc-choir-concert-2/
LOCATION:Haverhill Campus\, 100 Elliott St\, Haverhill\, MA\, United States
CATEGORIES:Home Page Events,Student Activities,Student Life
ORGANIZER;CN="Alisa Bucchiere":MAILTO:abucchiere@necc.mass.edu
GEO:42.797649;-71.05113
X-APPLE-STRUCTURED-LOCATION;VALUE=URI;X-ADDRESS=Haverhill Campus 100 Elliott St Haverhill MA United States;X-APPLE-RADIUS=500;X-TITLE=100 Elliott St:geo:-71.05113,42.797649
END:VEVENT
BEGIN:VEVENT
DTSTART;TZID=America/New_York:20250501T180000
DTEND;TZID=America/New_York:20250501T200000
DTSTAMP:20260422T172815
CREATED:20250212T183234Z
LAST-MODIFIED:20250212T183234Z
UID:10009471-1746122400-1746129600@necc.edu
SUMMARY:NECC Jazz/Rock Ensemble Concert
DESCRIPTION:The NECC Jazz/Rock Ensemble will present their Spring Concert. \nFree admission.  \n  \nProfessor Alisa Bucchiere\nMusic Coordinator\n#NECCMusicThrives \n Print View
URL:https://necc.edu/event/necc-jazz-rock-ensemble-concert/
LOCATION:Haverhill Campus\, 100 Elliott St\, Haverhill\, MA\, United States
CATEGORIES:Student Life
ORGANIZER;CN="Alisa Bucchiere":MAILTO:abucchiere@necc.mass.edu
GEO:42.797649;-71.05113
X-APPLE-STRUCTURED-LOCATION;VALUE=URI;X-ADDRESS=Haverhill Campus 100 Elliott St Haverhill MA United States;X-APPLE-RADIUS=500;X-TITLE=100 Elliott St:geo:-71.05113,42.797649
END:VEVENT
BEGIN:VEVENT
DTSTART;TZID=America/New_York:20250410T190000
DTEND;TZID=America/New_York:20250410T220000
DTSTAMP:20260422T172815
CREATED:20250212T182959Z
LAST-MODIFIED:20250212T182959Z
UID:10009470-1744311600-1744322400@necc.edu
SUMMARY:Battle of the Bands
DESCRIPTION:It’s back!!  One of the most popular events we held the past two school years has come back! \nBands that have current NECC music students and NECC music alumni have graced the stage in years past\, and this year’s event proves to be just as fantastic! \nFree admission. \nHere are the YouTube links to the previous two Battle of the Bands! \nNECC Battle of the Bands – 2023 \nNECC Battle of the Bands – 2024 \n  \nProfessor Alisa Bucchiere\nMusic Coordinator\n#NECCMusicThrives \n Print View
URL:https://necc.edu/event/battle-of-the-bands/
LOCATION:Haverhill Campus\, 100 Elliott St\, Haverhill\, MA\, United States
CATEGORIES:Student Life
ORGANIZER;CN="Alisa Bucchiere":MAILTO:abucchiere@necc.mass.edu
GEO:42.797649;-71.05113
X-APPLE-STRUCTURED-LOCATION;VALUE=URI;X-ADDRESS=Haverhill Campus 100 Elliott St Haverhill MA United States;X-APPLE-RADIUS=500;X-TITLE=100 Elliott St:geo:-71.05113,42.797649
END:VEVENT
BEGIN:VEVENT
DTSTART;TZID=America/New_York:20250402T190000
DTEND;TZID=America/New_York:20250402T210000
DTSTAMP:20260422T172815
CREATED:20250212T182314Z
LAST-MODIFIED:20250212T182314Z
UID:10009469-1743620400-1743627600@necc.edu
SUMMARY:28th Music Cabaret
DESCRIPTION:This will be the 28th Cabaret that the Choral and Music Club along with the Music Department will be hosting!    \nThis event will raise money for both the Music Program towards future field trips and for our memorial Music Scholarship fund in honor of Bonnie Surowiec a 2009 NECC Music graduate.   \n$5.00 admission \nProfessor Alisa Bucchiere\nMusic Coordinator\n#NECCMusicThrives \n Print View
URL:https://necc.edu/event/28th-music-cabaret/
LOCATION:Haverhill Campus\, 100 Elliott St\, Haverhill\, MA\, United States
CATEGORIES:Student Life
ORGANIZER;CN="Alisa Bucchiere":MAILTO:abucchiere@necc.mass.edu
GEO:42.797649;-71.05113
X-APPLE-STRUCTURED-LOCATION;VALUE=URI;X-ADDRESS=Haverhill Campus 100 Elliott St Haverhill MA United States;X-APPLE-RADIUS=500;X-TITLE=100 Elliott St:geo:-71.05113,42.797649
END:VEVENT
BEGIN:VEVENT
DTSTART;TZID=America/New_York:20250327T120000
DTEND;TZID=America/New_York:20250327T130000
DTSTAMP:20260422T172815
CREATED:20250212T181905Z
LAST-MODIFIED:20250212T181905Z
UID:10009468-1743076800-1743080400@necc.edu
SUMMARY:Bach's Lunch Concert Series
DESCRIPTION:The Bach’s Lunch Concert Series has returned again this year! This is the third year of this series of faculty concerts as the NECC Music Faculty and guests perform in music concerts for our NECC Community.   \nThe third concert in our Concert Series is being presented by Prof. Jared Holaday performing on his various saxophones.  Bring your box lunch and be serenaded by some fantastic music!   \nCoffee and donuts will be provided.  Free admission. \n Print View
URL:https://necc.edu/event/bachs-lunch-concert-series-2/
LOCATION:Haverhill Campus\, 100 Elliott St\, Haverhill\, MA\, United States
CATEGORIES:Student Life
ORGANIZER;CN="Alisa Bucchiere":MAILTO:abucchiere@necc.mass.edu
GEO:42.797649;-71.05113
X-APPLE-STRUCTURED-LOCATION;VALUE=URI;X-ADDRESS=Haverhill Campus 100 Elliott St Haverhill MA United States;X-APPLE-RADIUS=500;X-TITLE=100 Elliott St:geo:-71.05113,42.797649
END:VEVENT
BEGIN:VEVENT
DTSTART;TZID=America/New_York:20250304T133000
DTEND;TZID=America/New_York:20250304T153000
DTSTAMP:20260422T172815
CREATED:20250212T181459Z
LAST-MODIFIED:20250214T164104Z
UID:10009467-1741095000-1741102200@necc.edu
SUMMARY:Performance Workshop: Student Mid-Term Performances
DESCRIPTION:The Performance Workshop class is all about learning how to perform music!   Our music students will be presenting duets\, trios\, quartets and quintets! \nCome be an audience member to see how our student musicians grow in their craft!  Free admission. \n Print View
URL:https://necc.edu/event/performance-workshop-student-mid-term-performances/
LOCATION:Haverhill Campus\, 100 Elliott St\, Haverhill\, MA\, United States
CATEGORIES:Student Life
ORGANIZER;CN="Alisa Bucchiere":MAILTO:abucchiere@necc.mass.edu
GEO:42.797649;-71.05113
X-APPLE-STRUCTURED-LOCATION;VALUE=URI;X-ADDRESS=Haverhill Campus 100 Elliott St Haverhill MA United States;X-APPLE-RADIUS=500;X-TITLE=100 Elliott St:geo:-71.05113,42.797649
END:VEVENT
BEGIN:VEVENT
DTSTART;TZID=America/New_York:20241217T133000
DTEND;TZID=America/New_York:20241217T153000
DTSTAMP:20260422T172815
CREATED:20241122T193817Z
LAST-MODIFIED:20241122T193817Z
UID:10008992-1734442200-1734449400@necc.edu
SUMMARY:Performance Workshop Class Final Performance Exams
DESCRIPTION:The Performance Workshop classes are all about learning how to perform music!  Our students will present duets\, trios\, quartets and quintets. Come hear our musicians as they learn to grow in their craft! Free admission! This event will take place in the Technology Center Conference Room on Tuesday Dec. 17 at 1:30 pm. Please contact Professor Alisa Bucchiere at abucchiere@necc.mass.edu for more information. \n Print View
URL:https://necc.edu/event/performance-workshop-class-final-performance-exams/
LOCATION:Haverhill Campus\, 100 Elliott St\, Haverhill\, MA\, United States
CATEGORIES:Liberal Arts Center
ORGANIZER;CN="Alisa Bucchiere":MAILTO:abucchiere@necc.mass.edu
GEO:42.797649;-71.05113
X-APPLE-STRUCTURED-LOCATION;VALUE=URI;X-ADDRESS=Haverhill Campus 100 Elliott St Haverhill MA United States;X-APPLE-RADIUS=500;X-TITLE=100 Elliott St:geo:-71.05113,42.797649
END:VEVENT
BEGIN:VEVENT
DTSTART;TZID=America/New_York:20241215T030000
DTEND;TZID=America/New_York:20241215T170000
DTSTAMP:20260422T172816
CREATED:20241122T192617Z
LAST-MODIFIED:20241206T191520Z
UID:10008990-1734231600-1734282000@necc.edu
SUMMARY:A Christmas Carol
DESCRIPTION:Come be transported back to the 1880’s in England and enjoy and share a fantastic story by Charles Dickens. This is a multi generational cast full of NECC music and theater current students and alumni\, staff\, faculty\, administration\, and their families.  General Admission will be $20.00\, Students/Seniors $10.00\, Children under 5 Free. \nTo register\, please click here: https://www.ticketleap.events/events/neccachristmascarol \nNOTE: You must purchase tickets online if you want to use a card. Scrooge accepts only cash at the door\, as does our concessions and raffles\, so prithee\, bring your jingling coins and crinkled notes! \n Print View
URL:https://necc.edu/event/a-christmas-carol-performances/2024-12-15/
LOCATION:Haverhill Campus\, 100 Elliott St\, Haverhill\, MA\, United States
CATEGORIES:Liberal Arts Center
ATTACH;FMTTYPE=image/jpeg:https://necc.edu/wp-content/uploads/spotlight/sltns/Christmas_Carol-chiclet_2024.jpg
ORGANIZER;CN="Alisa Bucchiere":MAILTO:abucchiere@necc.mass.edu
GEO:42.797649;-71.05113
X-APPLE-STRUCTURED-LOCATION;VALUE=URI;X-ADDRESS=Haverhill Campus 100 Elliott St Haverhill MA United States;X-APPLE-RADIUS=500;X-TITLE=100 Elliott St:geo:-71.05113,42.797649
END:VEVENT
BEGIN:VEVENT
DTSTART;TZID=America/New_York:20241214T190000
DTEND;TZID=America/New_York:20241214T210000
DTSTAMP:20260422T172816
CREATED:20241122T192617Z
LAST-MODIFIED:20241206T191520Z
UID:10008989-1734202800-1734210000@necc.edu
SUMMARY:A Christmas Carol
DESCRIPTION:Come be transported back to the 1880’s in England and enjoy and share a fantastic story by Charles Dickens. This is a multi generational cast full of NECC music and theater current students and alumni\, staff\, faculty\, administration\, and their families.  General Admission will be $20.00\, Students/Seniors $10.00\, Children under 5 Free. \nTo register\, please click here: https://www.ticketleap.events/events/neccachristmascarol \nNOTE: You must purchase tickets online if you want to use a card. Scrooge accepts only cash at the door\, as does our concessions and raffles\, so prithee\, bring your jingling coins and crinkled notes! \n Print View
URL:https://necc.edu/event/a-christmas-carol-performances/2024-12-14/2/
LOCATION:Haverhill Campus\, 100 Elliott St\, Haverhill\, MA\, United States
CATEGORIES:Liberal Arts Center
ATTACH;FMTTYPE=image/jpeg:https://necc.edu/wp-content/uploads/spotlight/sltns/Christmas_Carol-chiclet_2024.jpg
ORGANIZER;CN="Alisa Bucchiere":MAILTO:abucchiere@necc.mass.edu
GEO:42.797649;-71.05113
X-APPLE-STRUCTURED-LOCATION;VALUE=URI;X-ADDRESS=Haverhill Campus 100 Elliott St Haverhill MA United States;X-APPLE-RADIUS=500;X-TITLE=100 Elliott St:geo:-71.05113,42.797649
END:VEVENT
BEGIN:VEVENT
DTSTART;TZID=America/New_York:20241214T150000
DTEND;TZID=America/New_York:20241214T170000
DTSTAMP:20260422T172816
CREATED:20241122T192617Z
LAST-MODIFIED:20241206T191520Z
UID:10008988-1734188400-1734195600@necc.edu
SUMMARY:A Christmas Carol
DESCRIPTION:Come be transported back to the 1880’s in England and enjoy and share a fantastic story by Charles Dickens. This is a multi generational cast full of NECC music and theater current students and alumni\, staff\, faculty\, administration\, and their families.  General Admission will be $20.00\, Students/Seniors $10.00\, Children under 5 Free. \nTo register\, please click here: https://www.ticketleap.events/events/neccachristmascarol \nNOTE: You must purchase tickets online if you want to use a card. Scrooge accepts only cash at the door\, as does our concessions and raffles\, so prithee\, bring your jingling coins and crinkled notes! \n Print View
URL:https://necc.edu/event/a-christmas-carol-performances/2024-12-14/1/
LOCATION:Haverhill Campus\, 100 Elliott St\, Haverhill\, MA\, United States
CATEGORIES:Liberal Arts Center
ATTACH;FMTTYPE=image/jpeg:https://necc.edu/wp-content/uploads/spotlight/sltns/Christmas_Carol-chiclet_2024.jpg
ORGANIZER;CN="Alisa Bucchiere":MAILTO:abucchiere@necc.mass.edu
GEO:42.797649;-71.05113
X-APPLE-STRUCTURED-LOCATION;VALUE=URI;X-ADDRESS=Haverhill Campus 100 Elliott St Haverhill MA United States;X-APPLE-RADIUS=500;X-TITLE=100 Elliott St:geo:-71.05113,42.797649
END:VEVENT
BEGIN:VEVENT
DTSTART;TZID=America/New_York:20241213T190000
DTEND;TZID=America/New_York:20241213T210000
DTSTAMP:20260422T172816
CREATED:20241122T192617Z
LAST-MODIFIED:20241206T191520Z
UID:10008987-1734116400-1734123600@necc.edu
SUMMARY:A Christmas Carol
DESCRIPTION:Come be transported back to the 1880’s in England and enjoy and share a fantastic story by Charles Dickens. This is a multi generational cast full of NECC music and theater current students and alumni\, staff\, faculty\, administration\, and their families.  General Admission will be $20.00\, Students/Seniors $10.00\, Children under 5 Free. \nTo register\, please click here: https://www.ticketleap.events/events/neccachristmascarol \nNOTE: You must purchase tickets online if you want to use a card. Scrooge accepts only cash at the door\, as does our concessions and raffles\, so prithee\, bring your jingling coins and crinkled notes! \n Print View
URL:https://necc.edu/event/a-christmas-carol-performances/2024-12-13/
LOCATION:Haverhill Campus\, 100 Elliott St\, Haverhill\, MA\, United States
CATEGORIES:Liberal Arts Center
ATTACH;FMTTYPE=image/jpeg:https://necc.edu/wp-content/uploads/spotlight/sltns/Christmas_Carol-chiclet_2024.jpg
ORGANIZER;CN="Alisa Bucchiere":MAILTO:abucchiere@necc.mass.edu
GEO:42.797649;-71.05113
X-APPLE-STRUCTURED-LOCATION;VALUE=URI;X-ADDRESS=Haverhill Campus 100 Elliott St Haverhill MA United States;X-APPLE-RADIUS=500;X-TITLE=100 Elliott St:geo:-71.05113,42.797649
END:VEVENT
BEGIN:VEVENT
DTSTART;TZID=America/New_York:20241209T123000
DTEND;TZID=America/New_York:20241209T133000
DTSTAMP:20260422T172816
CREATED:20240905T180347Z
LAST-MODIFIED:20241127T170102Z
UID:10007981-1733747400-1733751000@necc.edu
SUMMARY:Ugly Christmas Sweater Concert
DESCRIPTION:Join NECC Music Faculty and Students for a holiday concert in the Spurk Lobby. \nWear your most garish Christmas sweater and come join in the merriment as members of the music department serenade NECC with holiday tunes!   Sing along fun! \n  \n Print View
URL:https://necc.edu/event/ugly-christmas-sweater-concert-2/
LOCATION:Haverhill Campus\, 100 Elliott St\, Haverhill\, MA\, United States
CATEGORIES:Business and Accounting Center,Center for Health Professions,Center for STEM,Home Page Events,Liberal Arts Center,Performing Arts,Student Activities,Student Life
ORGANIZER;CN="Alisa Bucchiere":MAILTO:abucchiere@necc.mass.edu
GEO:42.797649;-71.05113
X-APPLE-STRUCTURED-LOCATION;VALUE=URI;X-ADDRESS=Haverhill Campus 100 Elliott St Haverhill MA United States;X-APPLE-RADIUS=500;X-TITLE=100 Elliott St:geo:-71.05113,42.797649
END:VEVENT
BEGIN:VEVENT
DTSTART;TZID=America/New_York:20241208T140000
DTEND;TZID=America/New_York:20241208T160000
DTSTAMP:20260422T172816
CREATED:20241122T193319Z
LAST-MODIFIED:20241127T170007Z
UID:10008991-1733666400-1733673600@necc.edu
SUMMARY:NECC Chorus Ensemble Concert
DESCRIPTION:The NECC Chorus Ensemble will be presenting their Winter Concert.  Music from the 1600’s all the way to Broadway and Disney will be presented. \nAdmission is $5. This event will raise money for our memorial Music Scholarship fund in honor of Bonnie Surowiec a 2009 NECC Music graduate. \nPlease contact Professor Alisa Bucchiere at abucchiere@necc.mass.edu for more information. \n Print View
URL:https://necc.edu/event/necc-chorus-ensemble-concert/
LOCATION:Haverhill Campus\, 100 Elliott St\, Haverhill\, MA\, United States
CATEGORIES:Alumni,Business and Accounting Center,Business Events,Center for Health Professions,Center for STEM,Community,Home Page Events,Liberal Arts Center,Performing Arts,Student Activities,Student Life
ORGANIZER;CN="Alisa Bucchiere":MAILTO:abucchiere@necc.mass.edu
GEO:42.797649;-71.05113
X-APPLE-STRUCTURED-LOCATION;VALUE=URI;X-ADDRESS=Haverhill Campus 100 Elliott St Haverhill MA United States;X-APPLE-RADIUS=500;X-TITLE=100 Elliott St:geo:-71.05113,42.797649
END:VEVENT
BEGIN:VEVENT
DTSTART;TZID=America/New_York:20241208T140000
DTEND;TZID=America/New_York:20241208T160000
DTSTAMP:20260422T172816
CREATED:20240905T180622Z
LAST-MODIFIED:20241127T165822Z
UID:10007982-1733666400-1733673600@necc.edu
SUMMARY:Winter Concert - NECC Choir
DESCRIPTION:The NECC Choir presents their Winter concert! \n$5.00 Admission – This event will raise money for our new Music Scholarship.  \nPlease contact Professor Alisa Bucchiere for requests\, questions or event information.    \n#NECCMusicThrives  \n  \n  \n Print View
URL:https://necc.edu/event/necc-choir-concert-winter-2024/
LOCATION:Haverhill Campus\, 100 Elliott St\, Haverhill\, MA\, United States
CATEGORIES:Alumni,Business and Accounting Center,Business Events,Center for Health Professions,Center for STEM,Community,Home Page Events,Liberal Arts Center,Performing Arts,Professional Studies Center,Student Activities,Student Life
ORGANIZER;CN="Alisa Bucchiere":MAILTO:abucchiere@necc.mass.edu
GEO:42.797649;-71.05113
X-APPLE-STRUCTURED-LOCATION;VALUE=URI;X-ADDRESS=Haverhill Campus 100 Elliott St Haverhill MA United States;X-APPLE-RADIUS=500;X-TITLE=100 Elliott St:geo:-71.05113,42.797649
END:VEVENT
BEGIN:VEVENT
DTSTART;TZID=America/New_York:20241121T120000
DTEND;TZID=America/New_York:20241121T130000
DTSTAMP:20260422T172816
CREATED:20240905T154957Z
LAST-MODIFIED:20240905T154957Z
UID:10007976-1732190400-1732194000@necc.edu
SUMMARY:Bach's Lunch - Music Concert Series
DESCRIPTION:NECC Music proudly presents the fall semester’s second of two “Bach’s Lunch” concerts.  This concert will feature NECC Music Professor Alisa Bucchiere  \nBring your “box” lunch and enjoy a midday musical performance!  Coffee\, soda\, and donuts will be available.  \nThursday\, November 21st from 12:00-1:00 pm in TC103.   \nAfter the concert\, Professor Bucchiere will host a talkback in room TC220 about the performance which will include a question-and-answer session.  \nThis event is free and open to the public.   \nQuestions? Please contact Professor Alisa Bucchiere \n#NECCMusicThrives  \n Print View
URL:https://necc.edu/event/bachs-lunch-music-concert-series-2/
LOCATION:Haverhill Campus\, 100 Elliott St\, Haverhill\, MA\, United States
CATEGORIES:Student Life
ORGANIZER;CN="Alisa Bucchiere":MAILTO:abucchiere@necc.mass.edu
GEO:42.797649;-71.05113
X-APPLE-STRUCTURED-LOCATION;VALUE=URI;X-ADDRESS=Haverhill Campus 100 Elliott St Haverhill MA United States;X-APPLE-RADIUS=500;X-TITLE=100 Elliott St:geo:-71.05113,42.797649
END:VEVENT
END:VCALENDAR