BEGIN:VCALENDAR
VERSION:2.0
PRODID:-//Northern Essex CC - ECPv6.15.12//NONSGML v1.0//EN
CALSCALE:GREGORIAN
METHOD:PUBLISH
X-ORIGINAL-URL:https://necc.edu
X-WR-CALDESC:Events for Northern Essex CC
REFRESH-INTERVAL;VALUE=DURATION:PT1H
X-Robots-Tag:noindex
X-PUBLISHED-TTL:PT1H
BEGIN:VTIMEZONE
TZID:America/New_York
BEGIN:DAYLIGHT
TZOFFSETFROM:-0500
TZOFFSETTO:-0400
TZNAME:EDT
DTSTART:20230312T070000
END:DAYLIGHT
BEGIN:STANDARD
TZOFFSETFROM:-0400
TZOFFSETTO:-0500
TZNAME:EST
DTSTART:20231105T060000
END:STANDARD
BEGIN:DAYLIGHT
TZOFFSETFROM:-0500
TZOFFSETTO:-0400
TZNAME:EDT
DTSTART:20240310T070000
END:DAYLIGHT
BEGIN:STANDARD
TZOFFSETFROM:-0400
TZOFFSETTO:-0500
TZNAME:EST
DTSTART:20241103T060000
END:STANDARD
BEGIN:DAYLIGHT
TZOFFSETFROM:-0500
TZOFFSETTO:-0400
TZNAME:EDT
DTSTART:20250309T070000
END:DAYLIGHT
BEGIN:STANDARD
TZOFFSETFROM:-0400
TZOFFSETTO:-0500
TZNAME:EST
DTSTART:20251102T060000
END:STANDARD
BEGIN:DAYLIGHT
TZOFFSETFROM:-0500
TZOFFSETTO:-0400
TZNAME:EDT
DTSTART:20260308T070000
END:DAYLIGHT
BEGIN:STANDARD
TZOFFSETFROM:-0400
TZOFFSETTO:-0500
TZNAME:EST
DTSTART:20261101T060000
END:STANDARD
BEGIN:DAYLIGHT
TZOFFSETFROM:-0500
TZOFFSETTO:-0400
TZNAME:EDT
DTSTART:20270314T070000
END:DAYLIGHT
BEGIN:STANDARD
TZOFFSETFROM:-0400
TZOFFSETTO:-0500
TZNAME:EST
DTSTART:20271107T060000
END:STANDARD
END:VTIMEZONE
BEGIN:VEVENT
DTSTART;TZID=America/New_York:20260422T113000
DTEND;TZID=America/New_York:20260422T133000
DTSTAMP:20260422T203118
CREATED:20260415T162928Z
LAST-MODIFIED:20260416T173420Z
UID:10011722-1776857400-1776864600@necc.edu
SUMMARY:Athletics Department Yard Sale
DESCRIPTION:Date: April 21st & April 22nd \nTime: 11:30am to 1:30pm \nLocation: Sidewalk in front of D Building (Rain Location: D Building Lobby) \n Print View
URL:https://necc.edu/event/athletics-department-yard-sale/2026-04-22/
LOCATION:Haverhill Campus\, 100 Elliott St\, Haverhill\, MA\, United States
CATEGORIES:Home Page Events
ORGANIZER;CN="Dan Blair":MAILTO:dblair@necc.mass.edu
GEO:42.797649;-71.05113
X-APPLE-STRUCTURED-LOCATION;VALUE=URI;X-ADDRESS=Haverhill Campus 100 Elliott St Haverhill MA United States;X-APPLE-RADIUS=500;X-TITLE=100 Elliott St:geo:-71.05113,42.797649
END:VEVENT
BEGIN:VEVENT
DTSTART;TZID=America/New_York:20260421T113000
DTEND;TZID=America/New_York:20260421T133000
DTSTAMP:20260422T203118
CREATED:20260415T162928Z
LAST-MODIFIED:20260416T173420Z
UID:10011721-1776771000-1776778200@necc.edu
SUMMARY:Athletics Department Yard Sale
DESCRIPTION:Date: April 21st & April 22nd \nTime: 11:30am to 1:30pm \nLocation: Sidewalk in front of D Building (Rain Location: D Building Lobby) \n Print View
URL:https://necc.edu/event/athletics-department-yard-sale/2026-04-21/
LOCATION:Haverhill Campus\, 100 Elliott St\, Haverhill\, MA\, United States
CATEGORIES:Home Page Events
ORGANIZER;CN="Dan Blair":MAILTO:dblair@necc.mass.edu
GEO:42.797649;-71.05113
X-APPLE-STRUCTURED-LOCATION;VALUE=URI;X-ADDRESS=Haverhill Campus 100 Elliott St Haverhill MA United States;X-APPLE-RADIUS=500;X-TITLE=100 Elliott St:geo:-71.05113,42.797649
END:VEVENT
BEGIN:VEVENT
DTSTART;TZID=America/New_York:20260304T130000
DTEND;TZID=America/New_York:20260304T153000
DTSTAMP:20260422T203118
CREATED:20260211T160011Z
LAST-MODIFIED:20260211T160011Z
UID:10011458-1772629200-1772638200@necc.edu
SUMMARY:NECC Golf Team Meeting
DESCRIPTION:Please meet in the D Building Lobby for NECC Golf Team Meeting \n Print View
URL:https://necc.edu/event/necc-golf-team-meeting/
LOCATION:Haverhill Campus\, 100 Elliott St\, Haverhill\, MA\, United States
CATEGORIES:Home Page Events
ORGANIZER;CN="Dan Blair":MAILTO:dblair@necc.mass.edu
GEO:42.797649;-71.05113
X-APPLE-STRUCTURED-LOCATION;VALUE=URI;X-ADDRESS=Haverhill Campus 100 Elliott St Haverhill MA United States;X-APPLE-RADIUS=500;X-TITLE=100 Elliott St:geo:-71.05113,42.797649
END:VEVENT
BEGIN:VEVENT
DTSTART;TZID=America/New_York:20260203T153000
DTEND;TZID=America/New_York:20260203T163000
DTSTAMP:20260422T203118
CREATED:20260108T002836Z
LAST-MODIFIED:20260130T215328Z
UID:10011319-1770132600-1770136200@necc.edu
SUMMARY:NECC Track and Field Team Meeting
DESCRIPTION:Please join us in the Sport and Fitness Center Lobby for information on NECC’s Track and Field. \n  \n  \n Print View
URL:https://necc.edu/event/necc-track-and-field-team-meeting/
LOCATION:Haverhill Campus\, 100 Elliott St\, Haverhill\, MA\, United States
CATEGORIES:Home Page Events
ORGANIZER;CN="Dan Blair":MAILTO:dblair@necc.mass.edu
GEO:42.797649;-71.05113
X-APPLE-STRUCTURED-LOCATION;VALUE=URI;X-ADDRESS=Haverhill Campus 100 Elliott St Haverhill MA United States;X-APPLE-RADIUS=500;X-TITLE=100 Elliott St:geo:-71.05113,42.797649
END:VEVENT
BEGIN:VEVENT
DTSTART;TZID=America/New_York:20251030T153000
DTEND;TZID=America/New_York:20251030T163000
DTSTAMP:20260422T203118
CREATED:20251006T162330Z
LAST-MODIFIED:20251006T162554Z
UID:10011067-1761838200-1761841800@necc.edu
SUMMARY:Men’s and Women’s Track and Field Meeting
DESCRIPTION:Thursday October 30th \n3:30pm Sport and Fitness Center Lobby \n Print View
URL:https://necc.edu/event/mens-and-womens-track-and-field-meeting/
CATEGORIES:Home Page Events
ORGANIZER;CN="Dan Blair":MAILTO:dblair@necc.mass.edu
END:VEVENT
BEGIN:VEVENT
DTSTART;TZID=America/New_York:20250925T173000
DTEND;TZID=America/New_York:20250925T183000
DTSTAMP:20260422T203118
CREATED:20250918T013653Z
LAST-MODIFIED:20250918T013654Z
UID:10010870-1758821400-1758825000@necc.edu
SUMMARY:Women’s Basketball Team Informational Meeting
DESCRIPTION:Sport and Fitness Center Lobby \n Print View
URL:https://necc.edu/event/womens-basketball-team-informational-meeting/
LOCATION:Haverhill Campus\, 100 Elliott St\, Haverhill\, MA\, United States
CATEGORIES:Home Page Events
ORGANIZER;CN="Dan Blair":MAILTO:dblair@necc.mass.edu
GEO:42.797649;-71.05113
X-APPLE-STRUCTURED-LOCATION;VALUE=URI;X-ADDRESS=Haverhill Campus 100 Elliott St Haverhill MA United States;X-APPLE-RADIUS=500;X-TITLE=100 Elliott St:geo:-71.05113,42.797649
END:VEVENT
BEGIN:VEVENT
DTSTART;TZID=America/New_York:20250805T170000
DTEND;TZID=America/New_York:20250805T190000
DTSTAMP:20260422T203118
CREATED:20250707T151801Z
LAST-MODIFIED:20250707T151801Z
UID:10010601-1754413200-1754420400@necc.edu
SUMMARY:Athletic Kick Off Night
DESCRIPTION:Please click HERE for any additional information: \n  \n Print View
URL:https://necc.edu/event/athletic-kick-off-night/
CATEGORIES:Home Page Events
ORGANIZER;CN="Dan Blair":MAILTO:dblair@necc.mass.edu
END:VEVENT
BEGIN:VEVENT
DTSTART;TZID=America/New_York:20250327T123000
DTEND;TZID=America/New_York:20250327T133000
DTSTAMP:20260422T203118
CREATED:20250321T133259Z
LAST-MODIFIED:20250324T134140Z
UID:10010349-1743078600-1743082200@necc.edu
SUMMARY:Golf Team Meeting
DESCRIPTION:Thursday\, March 27th \n12:30pm \nSport and Fitness Center Lobby (Building D)  \n Print View
URL:https://necc.edu/event/golf-team-meeting/
LOCATION:Haverhill Campus\, 100 Elliott St\, Haverhill\, MA\, United States
CATEGORIES:Athletics,Student Activities
ORGANIZER;CN="Dan Blair":MAILTO:dblair@necc.mass.edu
GEO:42.797649;-71.05113
X-APPLE-STRUCTURED-LOCATION;VALUE=URI;X-ADDRESS=Haverhill Campus 100 Elliott St Haverhill MA United States;X-APPLE-RADIUS=500;X-TITLE=100 Elliott St:geo:-71.05113,42.797649
END:VEVENT
BEGIN:VEVENT
DTSTART;TZID=America/New_York:20250128T153000
DTEND;TZID=America/New_York:20250128T163000
DTSTAMP:20260422T203118
CREATED:20250122T153841Z
LAST-MODIFIED:20250122T170012Z
UID:10009106-1738078200-1738081800@necc.edu
SUMMARY:Men & Women's Track Meeting
DESCRIPTION:For information for Spring Track – please meet in the Lobby of the Gym (D Building). \n Print View
URL:https://necc.edu/event/men-womens-track-meeting/
LOCATION:Haverhill Campus\, 100 Elliott St\, Haverhill\, MA\, United States
CATEGORIES:Home Page Events
ORGANIZER;CN="Dan Blair":MAILTO:dblair@necc.mass.edu
GEO:42.797649;-71.05113
X-APPLE-STRUCTURED-LOCATION;VALUE=URI;X-ADDRESS=Haverhill Campus 100 Elliott St Haverhill MA United States;X-APPLE-RADIUS=500;X-TITLE=100 Elliott St:geo:-71.05113,42.797649
END:VEVENT
BEGIN:VEVENT
DTSTART;TZID=America/New_York:20241107T153000
DTEND;TZID=America/New_York:20241107T163000
DTSTAMP:20260422T203118
CREATED:20240924T144324Z
LAST-MODIFIED:20241015T143219Z
UID:10008714-1730993400-1730997000@necc.edu
SUMMARY:Track and Field Team Meeting
DESCRIPTION:Any student interested in the men’s and women’s track and field team should attend this informational meeting on the upcoming season. \nInterested\, but can’t make the meeting please contact head coach Melanie Tarbox at mtarbox@necc.mass.edu \n Print View
URL:https://necc.edu/event/track-and-field-team-meeting/
LOCATION:Haverhill Campus\, 100 Elliott St\, Haverhill\, MA\, United States
CATEGORIES:Athletics Info Sessions,Student Activities,Student Life,Track and Field
ORGANIZER;CN="Dan Blair":MAILTO:dblair@necc.mass.edu
GEO:42.797649;-71.05113
X-APPLE-STRUCTURED-LOCATION;VALUE=URI;X-ADDRESS=Haverhill Campus 100 Elliott St Haverhill MA United States;X-APPLE-RADIUS=500;X-TITLE=100 Elliott St:geo:-71.05113,42.797649
END:VEVENT
END:VCALENDAR