BEGIN:VCALENDAR
VERSION:2.0
PRODID:-//Northern Essex CC - ECPv6.15.12//NONSGML v1.0//EN
CALSCALE:GREGORIAN
METHOD:PUBLISH
X-WR-CALNAME:Northern Essex CC
X-ORIGINAL-URL:https://necc.edu
X-WR-CALDESC:Events for Northern Essex CC
REFRESH-INTERVAL;VALUE=DURATION:PT1H
X-Robots-Tag:noindex
X-PUBLISHED-TTL:PT1H
BEGIN:VTIMEZONE
TZID:America/New_York
BEGIN:DAYLIGHT
TZOFFSETFROM:-0500
TZOFFSETTO:-0400
TZNAME:EDT
DTSTART:20230312T070000
END:DAYLIGHT
BEGIN:STANDARD
TZOFFSETFROM:-0400
TZOFFSETTO:-0500
TZNAME:EST
DTSTART:20231105T060000
END:STANDARD
BEGIN:DAYLIGHT
TZOFFSETFROM:-0500
TZOFFSETTO:-0400
TZNAME:EDT
DTSTART:20240310T070000
END:DAYLIGHT
BEGIN:STANDARD
TZOFFSETFROM:-0400
TZOFFSETTO:-0500
TZNAME:EST
DTSTART:20241103T060000
END:STANDARD
BEGIN:DAYLIGHT
TZOFFSETFROM:-0500
TZOFFSETTO:-0400
TZNAME:EDT
DTSTART:20250309T070000
END:DAYLIGHT
BEGIN:STANDARD
TZOFFSETFROM:-0400
TZOFFSETTO:-0500
TZNAME:EST
DTSTART:20251102T060000
END:STANDARD
END:VTIMEZONE
BEGIN:VEVENT
DTSTART;TZID=America/New_York:20241114T130000
DTEND;TZID=America/New_York:20241114T140000
DTSTAMP:20260422T185649
CREATED:20240912T114201Z
LAST-MODIFIED:20240912T114202Z
UID:10008070-1731589200-1731592800@necc.edu
SUMMARY:Dental Assisting Information Session - Online
DESCRIPTION:At the Information Session you can learn more about what it’s like to be a student in NECC’s Dental Program.\nAttend a Dental Assisting Information Session and Learn More About the Program and NECC\nJoin us for a Dental Assisting Program Information Session and you can: \n\nGet answers to all of your questions about the Dental Assisting Certificate and NECC.\nDiscover career pathways.\n\nDental assistants provide patient care and maintain patient records\, in addition to working closely with dentists and dental hygienists and assisting during procedures and examinations. Job opportunities are excellent and are expected to continue to grow\, especially as research continues to show the link between oral health and overall health. \nThe NECC Dental Assisting Certificate is a criteria-based health program and therefore requires students to attend an information session. \nView all of the Health Information Session Dates \nRegister in Advance\nPlease register online here in advance for the information session. \nThe meeting will take place online with Zoom. After registering\, you will receive a confirmation email containing information about joining the meeting. \nMore Information\nFor more information\, or for sign language interpreting\, please contact Davann Chhem\, Program Coordinator at 978-738-7657. \n Print View
URL:https://necc.edu/event/dental-assisting-information-session-online-29/
CATEGORIES:Dental Info Sessions,Health Info Sessions
ORGANIZER;CN="Davann Chhem":MAILTO:dchhem@necc.mass.edu
END:VEVENT
BEGIN:VEVENT
DTSTART;TZID=America/New_York:20241029T130000
DTEND;TZID=America/New_York:20241029T140000
DTSTAMP:20260422T185649
CREATED:20240912T114026Z
LAST-MODIFIED:20240912T114027Z
UID:10008069-1730206800-1730210400@necc.edu
SUMMARY:Dental Assisting Information Session - Online
DESCRIPTION:At the Information Session you can learn more about what it’s like to be a student in NECC’s Dental Program.\nAttend a Dental Assisting Information Session and Learn More About the Program and NECC\nJoin us for a Dental Assisting Program Information Session and you can: \n\nGet answers to all of your questions about the Dental Assisting Certificate and NECC.\nDiscover career pathways.\n\nDental assistants provide patient care and maintain patient records\, in addition to working closely with dentists and dental hygienists and assisting during procedures and examinations. Job opportunities are excellent and are expected to continue to grow\, especially as research continues to show the link between oral health and overall health. \nThe NECC Dental Assisting Certificate is a criteria-based health program and therefore requires students to attend an information session. \nView all of the Health Information Session Dates \nRegister in Advance\nPlease register online here in advance for the information session. \nThe meeting will take place online with Zoom. After registering\, you will receive a confirmation email containing information about joining the meeting. \nMore Information\nFor more information\, or for sign language interpreting\, please contact Davann Chhem\, Program Coordinator at 978-738-7657. \n Print View
URL:https://necc.edu/event/dental-assisting-information-session-online-28/
CATEGORIES:Dental Info Sessions,Health Info Sessions
ORGANIZER;CN="Davann Chhem":MAILTO:dchhem@necc.mass.edu
END:VEVENT
END:VCALENDAR