BEGIN:VCALENDAR
VERSION:2.0
PRODID:-//Northern Essex CC - ECPv6.15.12//NONSGML v1.0//EN
CALSCALE:GREGORIAN
METHOD:PUBLISH
X-ORIGINAL-URL:https://necc.edu
X-WR-CALDESC:Events for Northern Essex CC
REFRESH-INTERVAL;VALUE=DURATION:PT1H
X-Robots-Tag:noindex
X-PUBLISHED-TTL:PT1H
BEGIN:VTIMEZONE
TZID:America/New_York
BEGIN:DAYLIGHT
TZOFFSETFROM:-0500
TZOFFSETTO:-0400
TZNAME:EDT
DTSTART:20250309T070000
END:DAYLIGHT
BEGIN:STANDARD
TZOFFSETFROM:-0400
TZOFFSETTO:-0500
TZNAME:EST
DTSTART:20251102T060000
END:STANDARD
BEGIN:DAYLIGHT
TZOFFSETFROM:-0500
TZOFFSETTO:-0400
TZNAME:EDT
DTSTART:20260308T070000
END:DAYLIGHT
BEGIN:STANDARD
TZOFFSETFROM:-0400
TZOFFSETTO:-0500
TZNAME:EST
DTSTART:20261101T060000
END:STANDARD
BEGIN:DAYLIGHT
TZOFFSETFROM:-0500
TZOFFSETTO:-0400
TZNAME:EDT
DTSTART:20270314T070000
END:DAYLIGHT
BEGIN:STANDARD
TZOFFSETFROM:-0400
TZOFFSETTO:-0500
TZNAME:EST
DTSTART:20271107T060000
END:STANDARD
END:VTIMEZONE
BEGIN:VEVENT
DTSTART;TZID=America/New_York:20260502T093000
DTEND;TZID=America/New_York:20260502T130000
DTSTAMP:20260422T130204
CREATED:20260421T150955Z
LAST-MODIFIED:20260421T152902Z
UID:10012461-1777714200-1777726800@necc.edu
SUMMARY:Accepted Student Day!
DESCRIPTION:Students enrolling at Northern Essex Community College for the Summer and Fall 2026 semesters are encouraged to attend Accepted Student Day. Join us to explore student support services\, receive FAFSA assistance\, and hear firsthand from current students about their NECC experience. \nCheck in starts at 9:30 at the Technology Center\, TC103A/B. \nTo register\, please click the following link: Accepted Student Day Registration \n Print View
URL:https://necc.edu/event/accepted-student-day/
LOCATION:Haverhill Campus\, 100 Elliott St\, Haverhill\, MA\, United States
CATEGORIES:All Info Sessions,Home Page Events,Info Sessions & Tours - Haverhill,Info Sessions and Tours,Student Support Resources
ORGANIZER;CN="Enrollment Services":MAILTO:enrollmentservices@necc.mass.edu
GEO:42.797649;-71.05113
X-APPLE-STRUCTURED-LOCATION;VALUE=URI;X-ADDRESS=Haverhill Campus 100 Elliott St Haverhill MA United States;X-APPLE-RADIUS=500;X-TITLE=100 Elliott St:geo:-71.05113,42.797649
END:VEVENT
BEGIN:VEVENT
DTSTART;TZID=America/New_York:20260513T180000
DTEND;TZID=America/New_York:20260513T190000
DTSTAMP:20260422T130204
CREATED:20230914T174405Z
LAST-MODIFIED:20260406T151228Z
UID:10011196-1778695200-1778698800@necc.edu
SUMMARY:Info Session: Free Community College
DESCRIPTION:Join us for a MassEducate & MassReconnect Information Session virtually on Zoom!\nLearn how MassEducate and MassReconnect can provide funding for Massachusetts residents to earn a college degree at no cost. Attendees will learn about eligibility requirements\, and will be offered the ability to apply on the spot if desired. \nRegister Now!\n Print View
URL:https://necc.edu/event/massreconnect-information-session-virtual-online/2026-05-13/
LOCATION:Online\, United States
CATEGORIES:Admissions,All Info Sessions,Home Page Events,Info Sessions and Tours,Online Information Session
ORGANIZER;CN="Enrollment Services":MAILTO:enrollmentservices@necc.mass.edu
END:VEVENT
BEGIN:VEVENT
DTSTART;TZID=America/New_York:20260610T180000
DTEND;TZID=America/New_York:20260610T190000
DTSTAMP:20260422T130204
CREATED:20230914T174405Z
LAST-MODIFIED:20260406T151228Z
UID:10011197-1781114400-1781118000@necc.edu
SUMMARY:Info Session: Free Community College
DESCRIPTION:Join us for a MassEducate & MassReconnect Information Session virtually on Zoom!\nLearn how MassEducate and MassReconnect can provide funding for Massachusetts residents to earn a college degree at no cost. Attendees will learn about eligibility requirements\, and will be offered the ability to apply on the spot if desired. \nRegister Now!\n Print View
URL:https://necc.edu/event/massreconnect-information-session-virtual-online/2026-06-10/
LOCATION:Online\, United States
CATEGORIES:Admissions,All Info Sessions,Home Page Events,Info Sessions and Tours,Online Information Session
ORGANIZER;CN="Enrollment Services":MAILTO:enrollmentservices@necc.mass.edu
END:VEVENT
END:VCALENDAR