BEGIN:VCALENDAR
VERSION:2.0
PRODID:-//Northern Essex CC - ECPv6.15.12//NONSGML v1.0//EN
CALSCALE:GREGORIAN
METHOD:PUBLISH
X-WR-CALNAME:Northern Essex CC
X-ORIGINAL-URL:https://necc.edu
X-WR-CALDESC:Events for Northern Essex CC
REFRESH-INTERVAL;VALUE=DURATION:PT1H
X-Robots-Tag:noindex
X-PUBLISHED-TTL:PT1H
BEGIN:VTIMEZONE
TZID:America/New_York
BEGIN:DAYLIGHT
TZOFFSETFROM:-0500
TZOFFSETTO:-0400
TZNAME:EDT
DTSTART:20230312T070000
END:DAYLIGHT
BEGIN:STANDARD
TZOFFSETFROM:-0400
TZOFFSETTO:-0500
TZNAME:EST
DTSTART:20231105T060000
END:STANDARD
BEGIN:DAYLIGHT
TZOFFSETFROM:-0500
TZOFFSETTO:-0400
TZNAME:EDT
DTSTART:20240310T070000
END:DAYLIGHT
BEGIN:STANDARD
TZOFFSETFROM:-0400
TZOFFSETTO:-0500
TZNAME:EST
DTSTART:20241103T060000
END:STANDARD
BEGIN:DAYLIGHT
TZOFFSETFROM:-0500
TZOFFSETTO:-0400
TZNAME:EDT
DTSTART:20250309T070000
END:DAYLIGHT
BEGIN:STANDARD
TZOFFSETFROM:-0400
TZOFFSETTO:-0500
TZNAME:EST
DTSTART:20251102T060000
END:STANDARD
END:VTIMEZONE
BEGIN:VEVENT
DTSTART;TZID=America/New_York:20241120T180000
DTEND;TZID=America/New_York:20241120T190000
DTSTAMP:20260422T172131
CREATED:20230914T174405Z
LAST-MODIFIED:20260406T151228Z
UID:10006827-1732125600-1732129200@necc.edu
SUMMARY:Info Session: Free Community College
DESCRIPTION:Join us for a MassEducate & MassReconnect Information Session virtually on Zoom!\nLearn how MassEducate and MassReconnect can provide funding for Massachusetts residents to earn a college degree at no cost. Attendees will learn about eligibility requirements\, and will be offered the ability to apply on the spot if desired. \nRegister Now!\n Print View
URL:https://necc.edu/event/massreconnect-information-session-virtual-online/2024-11-20/
LOCATION:Online\, United States
CATEGORIES:Admissions,All Info Sessions,Home Page Events,Info Sessions and Tours,Online Information Session
ORGANIZER;CN="Enrollment Services":MAILTO:enrollmentservices@necc.mass.edu
END:VEVENT
BEGIN:VEVENT
DTSTART;TZID=America/New_York:20241106T180000
DTEND;TZID=America/New_York:20241106T190000
DTSTAMP:20260422T172131
CREATED:20230914T174405Z
LAST-MODIFIED:20260406T151228Z
UID:10006826-1730916000-1730919600@necc.edu
SUMMARY:Info Session: Free Community College
DESCRIPTION:Join us for a MassEducate & MassReconnect Information Session virtually on Zoom!\nLearn how MassEducate and MassReconnect can provide funding for Massachusetts residents to earn a college degree at no cost. Attendees will learn about eligibility requirements\, and will be offered the ability to apply on the spot if desired. \nRegister Now!\n Print View
URL:https://necc.edu/event/massreconnect-information-session-virtual-online/2024-11-06/
LOCATION:Online\, United States
CATEGORIES:Admissions,All Info Sessions,Home Page Events,Info Sessions and Tours,Online Information Session
ORGANIZER;CN="Enrollment Services":MAILTO:enrollmentservices@necc.mass.edu
END:VEVENT
END:VCALENDAR