BEGIN:VCALENDAR
VERSION:2.0
PRODID:-//Northern Essex CC - ECPv6.15.12//NONSGML v1.0//EN
CALSCALE:GREGORIAN
METHOD:PUBLISH
X-ORIGINAL-URL:https://necc.edu
X-WR-CALDESC:Events for Northern Essex CC
REFRESH-INTERVAL;VALUE=DURATION:PT1H
X-Robots-Tag:noindex
X-PUBLISHED-TTL:PT1H
BEGIN:VTIMEZONE
TZID:America/New_York
BEGIN:DAYLIGHT
TZOFFSETFROM:-0500
TZOFFSETTO:-0400
TZNAME:EDT
DTSTART:20240310T070000
END:DAYLIGHT
BEGIN:STANDARD
TZOFFSETFROM:-0400
TZOFFSETTO:-0500
TZNAME:EST
DTSTART:20241103T060000
END:STANDARD
BEGIN:DAYLIGHT
TZOFFSETFROM:-0500
TZOFFSETTO:-0400
TZNAME:EDT
DTSTART:20250309T070000
END:DAYLIGHT
BEGIN:STANDARD
TZOFFSETFROM:-0400
TZOFFSETTO:-0500
TZNAME:EST
DTSTART:20251102T060000
END:STANDARD
BEGIN:DAYLIGHT
TZOFFSETFROM:-0500
TZOFFSETTO:-0400
TZNAME:EDT
DTSTART:20260308T070000
END:DAYLIGHT
BEGIN:STANDARD
TZOFFSETFROM:-0400
TZOFFSETTO:-0500
TZNAME:EST
DTSTART:20261101T060000
END:STANDARD
END:VTIMEZONE
BEGIN:VEVENT
DTSTART;TZID=America/New_York:20250305T110000
DTEND;TZID=America/New_York:20250305T130000
DTSTAMP:20260424T034709
CREATED:20250220T161216Z
LAST-MODIFIED:20250224T182210Z
UID:10009524-1741172400-1741179600@necc.edu
SUMMARY:Federal Funds & Infrastructure Office (FFIO) Community Tour
DESCRIPTION:📢 Calling all Merrimack Valley community leaders! The Federal Funds and Infrastructure Office (FFIO) will be traveling the Commonwealth this year to help municipalities succeed in winning more federal funding for local infrastructure projects.\nJoin the Federal Funds and Infrastructure Office (FFIO) on Wednesday\, March 5\, 2025 for an information session for local officials and community advocates to assist in successful federal grant applications. FFIO Director Quentin Palfrey will present an overview of how to identify the right grants and access technical assistance and matching state funds. This event will outline how FFIO can help municipalities and regional stakeholders successfully navigate the application processes. After the presentation you will have an opportunity to speak directly with state officials about your community’s needs. \nFFIO was created by the Healey-Driscoll Administration to ensure that Massachusetts benefits from the robust federal grant programs currently available. In September 2024\, Governor Healey authorized the Act to Provide for Competitiveness and Infrastructure Investment Act which allows for up to $800 million to be invested over three years to aggressively pursue federal funding opportunities. \nThis event will be held in room TC103 and parking is available by the front door at no charge. \nThe event is open to the public; please register for the Haverhill event here:\nRegister on EventBrite \nA Zoom link will also be available to those registered interested in joining remotely. \n Print View
URL:https://necc.edu/event/federal-funds-infrastructure-office-ffio-community-tour/
LOCATION:Haverhill Campus\, 100 Elliott St\, Haverhill\, MA\, United States
CATEGORIES:Alumni,Business Events,Community
ORGANIZER;CN="Federal Funds and Infrastructure Office":MAILTO:fedfundsinfra@mass.gov
GEO:42.797649;-71.05113
X-APPLE-STRUCTURED-LOCATION;VALUE=URI;X-ADDRESS=Haverhill Campus 100 Elliott St Haverhill MA United States;X-APPLE-RADIUS=500;X-TITLE=100 Elliott St:geo:-71.05113,42.797649
END:VEVENT
END:VCALENDAR