BEGIN:VCALENDAR
VERSION:2.0
PRODID:-//Northern Essex CC - ECPv6.15.12//NONSGML v1.0//EN
CALSCALE:GREGORIAN
METHOD:PUBLISH
X-WR-CALNAME:Northern Essex CC
X-ORIGINAL-URL:https://necc.edu
X-WR-CALDESC:Events for Northern Essex CC
REFRESH-INTERVAL;VALUE=DURATION:PT1H
X-Robots-Tag:noindex
X-PUBLISHED-TTL:PT1H
BEGIN:VTIMEZONE
TZID:America/New_York
BEGIN:DAYLIGHT
TZOFFSETFROM:-0500
TZOFFSETTO:-0400
TZNAME:EDT
DTSTART:20230312T070000
END:DAYLIGHT
BEGIN:STANDARD
TZOFFSETFROM:-0400
TZOFFSETTO:-0500
TZNAME:EST
DTSTART:20231105T060000
END:STANDARD
BEGIN:DAYLIGHT
TZOFFSETFROM:-0500
TZOFFSETTO:-0400
TZNAME:EDT
DTSTART:20240310T070000
END:DAYLIGHT
BEGIN:STANDARD
TZOFFSETFROM:-0400
TZOFFSETTO:-0500
TZNAME:EST
DTSTART:20241103T060000
END:STANDARD
BEGIN:DAYLIGHT
TZOFFSETFROM:-0500
TZOFFSETTO:-0400
TZNAME:EDT
DTSTART:20250309T070000
END:DAYLIGHT
BEGIN:STANDARD
TZOFFSETFROM:-0400
TZOFFSETTO:-0500
TZNAME:EST
DTSTART:20251102T060000
END:STANDARD
BEGIN:DAYLIGHT
TZOFFSETFROM:-0500
TZOFFSETTO:-0400
TZNAME:EDT
DTSTART:20260308T070000
END:DAYLIGHT
BEGIN:STANDARD
TZOFFSETFROM:-0400
TZOFFSETTO:-0500
TZNAME:EST
DTSTART:20261101T060000
END:STANDARD
BEGIN:DAYLIGHT
TZOFFSETFROM:-0500
TZOFFSETTO:-0400
TZNAME:EDT
DTSTART:20270314T070000
END:DAYLIGHT
BEGIN:STANDARD
TZOFFSETFROM:-0400
TZOFFSETTO:-0500
TZNAME:EST
DTSTART:20271107T060000
END:STANDARD
END:VTIMEZONE
BEGIN:VEVENT
DTSTART;TZID=America/New_York:20260416T100000
DTEND;TZID=America/New_York:20260416T110000
DTSTAMP:20260422T143050
CREATED:20260121T143219Z
LAST-MODIFIED:20260121T143220Z
UID:10011383-1776333600-1776337200@necc.edu
SUMMARY:Information Session: Respiratory Care Program - Online
DESCRIPTION: \n \nAre You Looking for a Degree in Respiratory Care? Attend a Respiratory Care Associate Degree Information Session and Get the Answers You Need!\nWith NECC’s Respiratory Care Program you can prepare for a rewarding career as a respiratory therapist.  Respiratory therapists work in hospitals\, physician’s offices\, nursing care facilities\, home health agencies\, and more. Find out more about the program\, facilities\, and NECC\, by attending a Respiratory Care Associate Degree Information Session on our Lawrence Campus. \nJoin the Info Session Online\nThe meeting will take place online with Zoom: \nhttps://zoom.us/j/8755564735 \nZoom Meeting ID\n875 556 4735 \nMeeting Password\n746723 \nOne-Tap mobile\n+19292056099\,\,8755564735# US (New York) \n+13017158592\,\,8755564735# US (Washington DC) \nMore Information\nFor more information please contact Jennifer Jackson-Stevens\, Program Director at 978-655-5893 or email jjacksonstevens@necc.mass.edu \nYou can also read more about our Respiratory Care Program in the NECC Newsroom. \n Print View
URL:https://necc.edu/event/information-session-respiratory-care-program-online-3/
LOCATION:Online\, United States
CATEGORIES:Health Info Sessions,Home Page Events,Respiratory Care Info Session
ORGANIZER;CN="Jennifer Jackson-Stevens":MAILTO:jjacksonstevens@necc.mass.edu
END:VEVENT
BEGIN:VEVENT
DTSTART;TZID=America/New_York:20260303T100000
DTEND;TZID=America/New_York:20260303T110000
DTSTAMP:20260422T143050
CREATED:20260121T143131Z
LAST-MODIFIED:20260121T143131Z
UID:10011382-1772532000-1772535600@necc.edu
SUMMARY:Information Session: Respiratory Care Program - Online
DESCRIPTION: \n \nAre You Looking for a Degree in Respiratory Care? Attend a Respiratory Care Associate Degree Information Session and Get the Answers You Need!\nWith NECC’s Respiratory Care Program you can prepare for a rewarding career as a respiratory therapist.  Respiratory therapists work in hospitals\, physician’s offices\, nursing care facilities\, home health agencies\, and more. Find out more about the program\, facilities\, and NECC\, by attending a Respiratory Care Associate Degree Information Session on our Lawrence Campus. \nJoin the Info Session Online\nThe meeting will take place online with Zoom: \nhttps://zoom.us/j/8755564735 \nZoom Meeting ID\n875 556 4735 \nMeeting Password\n746723 \nOne-Tap mobile\n+19292056099\,\,8755564735# US (New York) \n+13017158592\,\,8755564735# US (Washington DC) \nMore Information\nFor more information please contact Jennifer Jackson-Stevens\, Program Director at 978-655-5893 or email jjacksonstevens@necc.mass.edu \nYou can also read more about our Respiratory Care Program in the NECC Newsroom. \n Print View
URL:https://necc.edu/event/information-session-respiratory-care-program-online-2/
LOCATION:Online\, United States
CATEGORIES:Health Info Sessions,Home Page Events,Respiratory Care Info Session
ORGANIZER;CN="Jennifer Jackson-Stevens":MAILTO:jjacksonstevens@necc.mass.edu
END:VEVENT
BEGIN:VEVENT
DTSTART;TZID=America/New_York:20260212T100000
DTEND;TZID=America/New_York:20260212T110000
DTSTAMP:20260422T143050
CREATED:20260121T143039Z
LAST-MODIFIED:20260121T143039Z
UID:10011381-1770890400-1770894000@necc.edu
SUMMARY:Information Session: Respiratory Care Program - Online
DESCRIPTION: \n \nAre You Looking for a Degree in Respiratory Care? Attend a Respiratory Care Associate Degree Information Session and Get the Answers You Need!\nWith NECC’s Respiratory Care Program you can prepare for a rewarding career as a respiratory therapist.  Respiratory therapists work in hospitals\, physician’s offices\, nursing care facilities\, home health agencies\, and more. Find out more about the program\, facilities\, and NECC\, by attending a Respiratory Care Associate Degree Information Session on our Lawrence Campus. \nJoin the Info Session Online\nThe meeting will take place online with Zoom: \nhttps://zoom.us/j/8755564735 \nZoom Meeting ID\n875 556 4735 \nMeeting Password\n746723 \nOne-Tap mobile\n+19292056099\,\,8755564735# US (New York) \n+13017158592\,\,8755564735# US (Washington DC) \nMore Information\nFor more information please contact Jennifer Jackson-Stevens\, Program Director at 978-655-5893 or email jjacksonstevens@necc.mass.edu \nYou can also read more about our Respiratory Care Program in the NECC Newsroom. \n Print View
URL:https://necc.edu/event/information-session-respiratory-care-program-online/
LOCATION:Online\, United States
CATEGORIES:Health Info Sessions,Home Page Events,Respiratory Care Info Session
ORGANIZER;CN="Jennifer Jackson-Stevens":MAILTO:jjacksonstevens@necc.mass.edu
END:VEVENT
BEGIN:VEVENT
DTSTART;TZID=America/New_York:20251208T100000
DTEND;TZID=America/New_York:20251208T110000
DTSTAMP:20260422T143050
CREATED:20250818T120525Z
LAST-MODIFIED:20250922T143216Z
UID:10010749-1765188000-1765191600@necc.edu
SUMMARY:Information Session: Respiratory Care Program - In Person
DESCRIPTION: \n \nAre You Looking for a Degree in Respiratory Care? Attend a Respiratory Care Associate Degree Information Session and Get the Answers You Need!\nWith NECC’s Respiratory Care Program you can prepare for a rewarding career as a respiratory therapist.  Respiratory therapists work in hospitals\, physician’s offices\, nursing care facilities\, home health agencies\, and more. Find out more about the program\, facilities\, and NECC\, by attending a Respiratory Care Associate Degree Information Session on our Lawrence Campus. \nNo registration for the event required. \nLocation\nDr. Ibrahim El-Hefni Allied Health & Technology Center (LC Building)\n414 Common Street\nLawrence MA \nParking\nParking in Lawrence is available in the three parking lots located on Common Street. One parking lot is in the fenced lot at the Dimitry Building\, another open lot across the street from the Dimitry Building\, and a third parking lot across the street from the El Hefni Building. \nNECC requires a parking decal to park in many of our parking lots. Visitors must park in Visitor or Free parking lots. \nView maps for Visitor and free parking. \nMore Information\nFor more information please contact Jennifer Jackson-Stevens\, Program Director at 978-655-5893 or email jjacksonstevens@necc.mass.edu \nYou can also read more about our Respiratory Care Program in the NECC Newsroom. \n Print View
URL:https://necc.edu/event/information-session-respiratory-care-program-5/
LOCATION:Lawrence Campus\, Lawrence\, MA\, United States
CATEGORIES:Health Info Sessions,Home Page Events,Respiratory Care Info Session
ORGANIZER;CN="Jennifer Jackson-Stevens":MAILTO:jjacksonstevens@necc.mass.edu
GEO:42.70734;-71.161052
END:VEVENT
BEGIN:VEVENT
DTSTART;TZID=America/New_York:20251110T100000
DTEND;TZID=America/New_York:20251110T110000
DTSTAMP:20260422T143050
CREATED:20250818T120432Z
LAST-MODIFIED:20250922T141535Z
UID:10010748-1762768800-1762772400@necc.edu
SUMMARY:Information Session: Respiratory Care Program - Online
DESCRIPTION: \n \nAre You Looking for a Degree in Respiratory Care? Attend a Respiratory Care Associate Degree Information Session and Get the Answers You Need!\nWith NECC’s Respiratory Care Program you can prepare for a rewarding career as a respiratory therapist.  Respiratory therapists work in hospitals\, physician’s offices\, nursing care facilities\, home health agencies\, and more. Find out more about the program\, facilities\, and NECC\, by attending a Respiratory Care Associate Degree Information Session on our Lawrence Campus. \nJoin the Info Session Online\nThe meeting will take place online with Zoom: \nhttps://zoom.us/j/8755564735 \nZoom Meeting ID\n875 556 4735 \nMeeting Password\n746723 \nOne-Tap mobile\n+19292056099\,\,8755564735# US (New York) \n+13017158592\,\,8755564735# US (Washington DC) \nMore Information\nFor more information please contact Jennifer Jackson-Stevens\, Program Director at 978-655-5893 or email jjacksonstevens@necc.mass.edu \nYou can also read more about our Respiratory Care Program in the NECC Newsroom. \n Print View
URL:https://necc.edu/event/information-session-respiratory-care-program-4/
LOCATION:Online\, United States
CATEGORIES:Health Info Sessions,Home Page Events,Respiratory Care Info Session
ORGANIZER;CN="Jennifer Jackson-Stevens":MAILTO:jjacksonstevens@necc.mass.edu
END:VEVENT
BEGIN:VEVENT
DTSTART;TZID=America/New_York:20251014T100000
DTEND;TZID=America/New_York:20251014T110000
DTSTAMP:20260422T143050
CREATED:20250818T120334Z
LAST-MODIFIED:20250922T141618Z
UID:10010747-1760436000-1760439600@necc.edu
SUMMARY:Information Session: Respiratory Care Program - Online
DESCRIPTION: \n \nAre You Looking for a Degree in Respiratory Care? Attend a Respiratory Care Associate Degree Information Session and Get the Answers You Need!\nWith NECC’s Respiratory Care Program you can prepare for a rewarding career as a respiratory therapist.  Respiratory therapists work in hospitals\, physician’s offices\, nursing care facilities\, home health agencies\, and more. Find out more about the program\, facilities\, and NECC\, by attending a Respiratory Care Associate Degree Information Session on our Lawrence Campus. \nJoin the Info Session Online\nThe meeting will take place online with Zoom: \nhttps://zoom.us/j/8755564735 \nZoom Meeting ID\n875 556 4735 \nMeeting Password\n746723 \nOne-Tap mobile\n+19292056099\,\,8755564735# US (New York) \n+13017158592\,\,8755564735# US (Washington DC) \nMore Information\nFor more information please contact Jennifer Jackson-Stevens\, Program Director at 978-655-5893 or email jjacksonstevens@necc.mass.edu \nYou can also read more about our Respiratory Care Program in the NECC Newsroom. \n Print View
URL:https://necc.edu/event/information-session-respiratory-care-program-3/
LOCATION:Online\, United States
CATEGORIES:Health Info Sessions,Home Page Events,Respiratory Care Info Session
ORGANIZER;CN="Jennifer Jackson-Stevens":MAILTO:jjacksonstevens@necc.mass.edu
END:VEVENT
BEGIN:VEVENT
DTSTART;TZID=America/New_York:20250811T100000
DTEND;TZID=America/New_York:20250811T110000
DTSTAMP:20260422T143050
CREATED:20250522T171846Z
LAST-MODIFIED:20250522T171846Z
UID:10010565-1754906400-1754910000@necc.edu
SUMMARY:Information Session: Respiratory Care Program
DESCRIPTION: \n \nAre You Looking for a Degree in Respiratory Care? Attend a Respiratory Care Associate Degree Information Session and Get the Answers You Need!\nWith NECC’s Respiratory Care Program you can prepare for a rewarding career as a respiratory therapist.  Respiratory therapists work in hospitals\, physician’s offices\, nursing care facilities\, home health agencies\, and more. Find out more about the program\, facilities\, and NECC\, by attending a Respiratory Care Associate Degree Information Session on our Lawrence Campus. \nJoin the Info Session Online\nThe meeting will take place online with Zoom: \nhttps://zoom.us/j/8755564735 \nZoom Meeting ID\n875 556 4735 \nMeeting Password\n746723 \nOne-Tap mobile\n+19292056099\,\,8755564735# US (New York) \n+13017158592\,\,8755564735# US (Washington DC) \nMore Information\nFor more information please contact Jennifer Jackson-Stevens\, Program Director at 978-655-5893 or email jjacksonstevens@necc.mass.edu \nYou can also read more about our Respiratory Care Program in the NECC Newsroom. \n Print View
URL:https://necc.edu/event/information-session-respiratory-care-program-2/
LOCATION:Online\, United States
CATEGORIES:Health Info Sessions,Home Page Events,Respiratory Care Info Session
ORGANIZER;CN="Jennifer Jackson-Stevens":MAILTO:jjacksonstevens@necc.mass.edu
END:VEVENT
BEGIN:VEVENT
DTSTART;TZID=America/New_York:20250710T100000
DTEND;TZID=America/New_York:20250710T110000
DTSTAMP:20260422T143050
CREATED:20250522T171511Z
LAST-MODIFIED:20250522T171604Z
UID:10010564-1752141600-1752145200@necc.edu
SUMMARY:Information Session: Respiratory Care Program
DESCRIPTION: \n \nAre You Looking for a Degree in Respiratory Care? Attend a Respiratory Care Associate Degree Information Session and Get the Answers You Need!\nWith NECC’s Respiratory Care Program you can prepare for a rewarding career as a respiratory therapist.  Respiratory therapists work in hospitals\, physician’s offices\, nursing care facilities\, home health agencies\, and more. Find out more about the program\, facilities\, and NECC\, by attending a Respiratory Care Associate Degree Information Session on our Lawrence Campus. \nJoin the Info Session Online\nThe meeting will take place online with Zoom: \nhttps://zoom.us/j/8755564735 \nZoom Meeting ID\n875 556 4735 \nMeeting Password\n746723 \nOne-Tap mobile\n+19292056099\,\,8755564735# US (New York) \n+13017158592\,\,8755564735# US (Washington DC) \nMore Information\nFor more information please contact Jennifer Jackson-Stevens\, Program Director at 978-655-5893 or email jjacksonstevens@necc.mass.edu \nYou can also read more about our Respiratory Care Program in the NECC Newsroom. \n Print View
URL:https://necc.edu/event/information-session-respiratory-care-program/
LOCATION:Online\, United States
CATEGORIES:Health Info Sessions,Home Page Events,Respiratory Care Info Session
ORGANIZER;CN="Jennifer Jackson-Stevens":MAILTO:jjacksonstevens@necc.mass.edu
END:VEVENT
BEGIN:VEVENT
DTSTART;TZID=America/New_York:20250617T100000
DTEND;TZID=America/New_York:20250617T110000
DTSTAMP:20260422T143050
CREATED:20250501T190952Z
LAST-MODIFIED:20250501T190953Z
UID:10010526-1750154400-1750158000@necc.edu
SUMMARY:Information Session: Respiratory Care
DESCRIPTION: \n \nAre You Looking for a Degree in Respiratory Care? Attend a Respiratory Care Associate Degree Information Session and Get the Answers You Need!\nWith NECC’s Respiratory Care Program you can prepare for a rewarding career as a respiratory therapist.  Respiratory therapists work in hospitals\, physician’s offices\, nursing care facilities\, home health agencies\, and more. Find out more about the program\, facilities\, and NECC\, by attending a Respiratory Care Associate Degree Information Session on our Lawrence Campus. \nJoin the Info Session Online\nThe meeting will take place online with Zoom: \nhttps://zoom.us/j/8755564735 \nZoom Meeting ID\n875 556 4735 \nMeeting Password\n746723 \nOne-Tap mobile\n+19292056099\,\,8755564735# US (New York) \n+13017158592\,\,8755564735# US (Washington DC) \nMore Information\nFor more information please contact Jennifer Jackson-Stevens\, Program Director at 978-655-5893 or email jjacksonstevens@necc.mass.edu \nYou can also read more about our Respiratory Care Program in the NECC Newsroom. \n Print View
URL:https://necc.edu/event/information-session-respiratory-care/
LOCATION:Online\, United States
CATEGORIES:Health Info Sessions,Home Page Events,Respiratory Care Info Session
ORGANIZER;CN="Jennifer Jackson-Stevens":MAILTO:jjacksonstevens@necc.mass.edu
END:VEVENT
BEGIN:VEVENT
DTSTART;TZID=America/New_York:20250519T110000
DTEND;TZID=America/New_York:20250519T120000
DTSTAMP:20260422T143050
CREATED:20250501T190626Z
LAST-MODIFIED:20250501T191120Z
UID:10010525-1747652400-1747656000@necc.edu
SUMMARY:Information Session: Respiratory Care
DESCRIPTION: \n \nAre You Looking for a Degree in Respiratory Care? Attend a Respiratory Care Associate Degree Information Session and Get the Answers You Need!\nWith NECC’s Respiratory Care Program you can prepare for a rewarding career as a respiratory therapist.  Respiratory therapists work in hospitals\, physician’s offices\, nursing care facilities\, home health agencies\, and more. Find out more about the program\, facilities\, and NECC\, by attending a Respiratory Care Associate Degree Information Session on our Lawrence Campus. \nJoin the Info Session Online\nThe meeting will take place online with Zoom: \nhttps://zoom.us/j/8755564735 \nZoom Meeting ID\n875 556 4735 \nMeeting Password\n746723 \nOne-Tap mobile\n+19292056099\,\,8755564735# US (New York) \n+13017158592\,\,8755564735# US (Washington DC) \nMore Information\nFor more information please contact Jennifer Jackson-Stevens\, Program Director at 978-655-5893 or email jjacksonstevens@necc.mass.edu \nYou can also read more about our Respiratory Care Program in the NECC Newsroom. \n Print View
URL:https://necc.edu/event/info-session-respiratory-care/
LOCATION:Online\, United States
CATEGORIES:Health Info Sessions,Home Page Events,Respiratory Care Info Session
ORGANIZER;CN="Jennifer Jackson-Stevens":MAILTO:jjacksonstevens@necc.mass.edu
END:VEVENT
BEGIN:VEVENT
DTSTART;TZID=America/New_York:20250415T100000
DTEND;TZID=America/New_York:20250415T110000
DTSTAMP:20260422T143050
CREATED:20250115T191435Z
LAST-MODIFIED:20250411T163145Z
UID:10009095-1744711200-1744714800@necc.edu
SUMMARY:Info Session: Respiratory Care
DESCRIPTION: \n \nAre You Looking for a Degree in Respiratory Care? Attend a Respiratory Care Associate Degree Information Session and Get the Answers You Need!\nWith NECC’s Respiratory Care Program you can prepare for a rewarding career as a respiratory therapist.  Respiratory therapists work in hospitals\, physician’s offices\, nursing care facilities\, home health agencies\, and more. Find out more about the program\, facilities\, and NECC\, by attending a Respiratory Care Associate Degree Information Session on our Lawrence Campus. \nJoin the Info Session Online\nThe meeting will take place online with Zoom: \nhttps://zoom.us/j/8755564735 \nZoom Meeting ID\n875 556 4735 \nMeeting Password\n746723 \nOne-Tap mobile\n+19292056099\,\,8755564735# US (New York) \n+13017158592\,\,8755564735# US (Washington DC) \nMore Information\nFor more information please contact Jennifer Jackson-Stevens\, Program Director at 978-655-5893 or email jjacksonstevens@necc.mass.edu \nYou can also read more about our Respiratory Care Program in the NECC Newsroom. \n Print View
URL:https://necc.edu/event/respiratory-care-associate-degree-information-session-online-4/
LOCATION:Online\, United States
CATEGORIES:Health Info Sessions,Respiratory Care Info Session
ORGANIZER;CN="Jennifer Jackson-Stevens":MAILTO:jjacksonstevens@necc.mass.edu
END:VEVENT
BEGIN:VEVENT
DTSTART;TZID=America/New_York:20250304T100000
DTEND;TZID=America/New_York:20250304T110000
DTSTAMP:20260422T143050
CREATED:20250115T191259Z
LAST-MODIFIED:20250115T191259Z
UID:10009094-1741082400-1741086000@necc.edu
SUMMARY:Respiratory Care Associate Degree Information Session - Online
DESCRIPTION: \n \nAre You Looking for a Degree in Respiratory Care? Attend a Respiratory Care Associate Degree Information Session and Get the Answers You Need!\nWith NECC’s Respiratory Care Program you can prepare for a rewarding career as a respiratory therapist.  Respiratory therapists work in hospitals\, physician’s offices\, nursing care facilities\, home health agencies\, and more. Find out more about the program\, facilities\, and NECC\, by attending a Respiratory Care Associate Degree Information Session on our Lawrence Campus. \nJoin the Info Session Online\nThe meeting will take place online with Zoom: \nhttps://zoom.us/j/8755564735 \nZoom Meeting ID\n875 556 4735 \nMeeting Password\n746723 \nOne-Tap mobile\n+19292056099\,\,8755564735# US (New York) \n+13017158592\,\,8755564735# US (Washington DC) \nMore Information\nFor more information please contact Jennifer Jackson-Stevens\, Program Director at 978-655-5893 or email jjacksonstevens@necc.mass.edu \nYou can also read more about our Respiratory Care Program in the NECC Newsroom. \n Print View
URL:https://necc.edu/event/respiratory-care-associate-degree-information-session-online-3/
CATEGORIES:Health Info Sessions,Respiratory Care Info Session
ORGANIZER;CN="Jennifer Jackson-Stevens":MAILTO:jjacksonstevens@necc.mass.edu
END:VEVENT
BEGIN:VEVENT
DTSTART;TZID=America/New_York:20250204T100000
DTEND;TZID=America/New_York:20250204T110000
DTSTAMP:20260422T143050
CREATED:20250115T191102Z
LAST-MODIFIED:20250115T191102Z
UID:10009093-1738663200-1738666800@necc.edu
SUMMARY:Respiratory Care Associate Degree Information Session - Online
DESCRIPTION: \n \nAre You Looking for a Degree in Respiratory Care? Attend a Respiratory Care Associate Degree Information Session and Get the Answers You Need!\nWith NECC’s Respiratory Care Program you can prepare for a rewarding career as a respiratory therapist.  Respiratory therapists work in hospitals\, physician’s offices\, nursing care facilities\, home health agencies\, and more. Find out more about the program\, facilities\, and NECC\, by attending a Respiratory Care Associate Degree Information Session on our Lawrence Campus. \nJoin the Info Session Online\nThe meeting will take place online with Zoom: \nhttps://zoom.us/j/8755564735 \nZoom Meeting ID\n875 556 4735 \nMeeting Password\n746723 \nOne-Tap mobile\n+19292056099\,\,8755564735# US (New York) \n+13017158592\,\,8755564735# US (Washington DC) \nMore Information\nFor more information please contact Jennifer Jackson-Stevens\, Program Director at 978-655-5893 or email jjacksonstevens@necc.mass.edu \nYou can also read more about our Respiratory Care Program in the NECC Newsroom. \n Print View
URL:https://necc.edu/event/respiratory-care-associate-degree-information-session-online-2/
CATEGORIES:Health Info Sessions,Respiratory Care Info Session
ORGANIZER;CN="Jennifer Jackson-Stevens":MAILTO:jjacksonstevens@necc.mass.edu
END:VEVENT
BEGIN:VEVENT
DTSTART;TZID=America/New_York:20241210T100000
DTEND;TZID=America/New_York:20241210T110000
DTSTAMP:20260422T143050
CREATED:20240909T145341Z
LAST-MODIFIED:20240909T145342Z
UID:10008045-1733824800-1733828400@necc.edu
SUMMARY:Respiratory Care Associate Degree Information Session - Online
DESCRIPTION: \n \nAre You Looking for a Degree in Respiratory Care? Attend a Respiratory Care Associate Degree Information Session and Get the Answers You Need!\nWith NECC’s Respiratory Care Program you can prepare for a rewarding career as a respiratory therapist.  Respiratory therapists work in hospitals\, physician’s offices\, nursing care facilities\, home health agencies\, and more. Find out more about the program\, facilities\, and NECC\, by attending a Respiratory Care Associate Degree Information Session on our Lawrence Campus. \nJoin the Info Session Online\nThe meeting will take place online with Zoom: \nhttps://zoom.us/j/8755564735 \nZoom Meeting ID\n875 556 4735 \nMeeting Password\n746723 \nOne-Tap mobile\n+19292056099\,\,8755564735# US (New York) \n+13017158592\,\,8755564735# US (Washington DC) \nMore Information\nFor more information please contact Jennifer Jackson-Stevens\, Program Director at 978-655-5893 or email jjacksonstevens@necc.mass.edu \nYou can also read more about our Respiratory Care Program in the NECC Newsroom. \n Print View
URL:https://necc.edu/event/respiratory-care-associate-degree-information-session-online-13/
CATEGORIES:Health Info Sessions,Respiratory Care Info Session
ORGANIZER;CN="Jennifer Jackson-Stevens":MAILTO:jjacksonstevens@necc.mass.edu
END:VEVENT
BEGIN:VEVENT
DTSTART;TZID=America/New_York:20241113T100000
DTEND;TZID=America/New_York:20241113T110000
DTSTAMP:20260422T143050
CREATED:20240909T145253Z
LAST-MODIFIED:20240909T145253Z
UID:10008044-1731492000-1731495600@necc.edu
SUMMARY:Respiratory Care Associate Degree Information Session - Online
DESCRIPTION: \n \nAre You Looking for a Degree in Respiratory Care? Attend a Respiratory Care Associate Degree Information Session and Get the Answers You Need!\nWith NECC’s Respiratory Care Program you can prepare for a rewarding career as a respiratory therapist.  Respiratory therapists work in hospitals\, physician’s offices\, nursing care facilities\, home health agencies\, and more. Find out more about the program\, facilities\, and NECC\, by attending a Respiratory Care Associate Degree Information Session on our Lawrence Campus. \nJoin the Info Session Online\nThe meeting will take place online with Zoom: \nhttps://zoom.us/j/8755564735 \nZoom Meeting ID\n875 556 4735 \nMeeting Password\n746723 \nOne-Tap mobile\n+19292056099\,\,8755564735# US (New York) \n+13017158592\,\,8755564735# US (Washington DC) \nMore Information\nFor more information please contact Jennifer Jackson-Stevens\, Program Director at 978-655-5893 or email jjacksonstevens@necc.mass.edu \nYou can also read more about our Respiratory Care Program in the NECC Newsroom. \n Print View
URL:https://necc.edu/event/respiratory-care-associate-degree-information-session-online-12/
CATEGORIES:Health Info Sessions,Respiratory Care Info Session
ORGANIZER;CN="Jennifer Jackson-Stevens":MAILTO:jjacksonstevens@necc.mass.edu
END:VEVENT
END:VCALENDAR