BEGIN:VCALENDAR
VERSION:2.0
PRODID:-//Northern Essex CC - ECPv6.15.12//NONSGML v1.0//EN
CALSCALE:GREGORIAN
METHOD:PUBLISH
X-ORIGINAL-URL:https://necc.edu
X-WR-CALDESC:Events for Northern Essex CC
REFRESH-INTERVAL;VALUE=DURATION:PT1H
X-Robots-Tag:noindex
X-PUBLISHED-TTL:PT1H
BEGIN:VTIMEZONE
TZID:America/New_York
BEGIN:DAYLIGHT
TZOFFSETFROM:-0500
TZOFFSETTO:-0400
TZNAME:EDT
DTSTART:20240310T070000
END:DAYLIGHT
BEGIN:STANDARD
TZOFFSETFROM:-0400
TZOFFSETTO:-0500
TZNAME:EST
DTSTART:20241103T060000
END:STANDARD
BEGIN:DAYLIGHT
TZOFFSETFROM:-0500
TZOFFSETTO:-0400
TZNAME:EDT
DTSTART:20250309T070000
END:DAYLIGHT
BEGIN:STANDARD
TZOFFSETFROM:-0400
TZOFFSETTO:-0500
TZNAME:EST
DTSTART:20251102T060000
END:STANDARD
BEGIN:DAYLIGHT
TZOFFSETFROM:-0500
TZOFFSETTO:-0400
TZNAME:EDT
DTSTART:20260308T070000
END:DAYLIGHT
BEGIN:STANDARD
TZOFFSETFROM:-0400
TZOFFSETTO:-0500
TZNAME:EST
DTSTART:20261101T060000
END:STANDARD
END:VTIMEZONE
BEGIN:VEVENT
DTSTART;TZID=America/New_York:20251120T120000
DTEND;TZID=America/New_York:20251120T140000
DTSTAMP:20260423T233826
CREATED:20251008T175903Z
LAST-MODIFIED:20251104T175105Z
UID:10011077-1763640000-1763647200@necc.edu
SUMMARY:Around the World via Show and Tell
DESCRIPTION:Do you have a small souvenir that brings back memories of your travels? A song\, scent\, or story that instantly transports you somewhere special\, or maybe even “home”? We’d love for you to share it with us as we journey around the world together!\nWe invite the NECC community to join us for Around the World via Show and Tell on Thursday\, November 20\, from 12:00–2:00 p.m. in the Center for Professional Development\, C204. \nBring along something that represents your travels or heritage\, Like a souvenir\, song\, short story\, photo\, food item…the possibilities are endless! Or simply come to listen\, connect\, and enjoy the trip through everyone’s stories.\nRegistration Link: https://northernessex.wufoo.com/forms/z1n4rlxv15ab1s0/ \nFor more information\, please contact Maria Hernandez at mhernandez@necc.mass.edu or Lorena Constant at lconstant@necc.mass.edu. \n Print View
URL:https://necc.edu/event/around-the-world-via-show-and-tell-2/
LOCATION:Haverhill Campus\, 100 Elliott St\, Haverhill\, MA\, United States
CATEGORIES:Professional Development
GEO:42.797649;-71.05113
X-APPLE-STRUCTURED-LOCATION;VALUE=URI;X-ADDRESS=Haverhill Campus 100 Elliott St Haverhill MA United States;X-APPLE-RADIUS=500;X-TITLE=100 Elliott St:geo:-71.05113,42.797649
END:VEVENT
BEGIN:VEVENT
DTSTART;TZID=America/New_York:20251106T083000
DTEND;TZID=America/New_York:20251106T110000
DTSTAMP:20260423T233826
CREATED:20250924T143842Z
LAST-MODIFIED:20251020T150240Z
UID:10010909-1762417800-1762426800@necc.edu
SUMMARY:Annual Veterans Day Ceremony at NECC
DESCRIPTION:Join Northern Essex Community College in honoring our nation’s veterans at our annual Veterans Day Ceremony. The day will begin with a flag raising ceremony at 8:30 AM at the main entrance of the Haverhill Campus\, where the U.S.\, Massachusetts\, and POW/MIA flags are flown daily. \nFollowing the ceremony\, we will gather in the Tech Center (TC) Building for the main program. A lite breakfast buffet will be served. \nThis event is free and open to students\, faculty\, staff\, community members\, and local leaders. We welcome all to join us in honoring the service and sacrifice of our veterans. \n \n Print View
URL:https://necc.edu/event/annual-veterans-day-ceremony-at-necc/
LOCATION:Haverhill Campus\, 100 Elliott St\, Haverhill\, MA\, United States
CATEGORIES:Home Page Events
ORGANIZER;CN="Maria Hernandez":MAILTO:mhernandez@necc.mass.edu
GEO:42.797649;-71.05113
X-APPLE-STRUCTURED-LOCATION;VALUE=URI;X-ADDRESS=Haverhill Campus 100 Elliott St Haverhill MA United States;X-APPLE-RADIUS=500;X-TITLE=100 Elliott St:geo:-71.05113,42.797649
END:VEVENT
BEGIN:VEVENT
DTSTART;TZID=America/New_York:20251001T160000
DTEND;TZID=America/New_York:20251001T170000
DTSTAMP:20260423T233826
CREATED:20250918T175614Z
LAST-MODIFIED:20250919T140045Z
UID:10010872-1759334400-1759338000@necc.edu
SUMMARY:Know your Rights (KYR) with Susan Church\, Esq.
DESCRIPTION:An invitation to the NECC community to a Know Your Rights (KYR) presentation designed specifically for our immigrant and refugee community members during this time of increased immigration policy enforcement in Massachusetts. \nThis KYR session will be hosted by Susan Church\, Esq.\, Chief Operating Officer of the Commonwealth’s Office for Refugees and Immigrants (ORI) and a former immigration attorney with over 25 years of legal experience. Ms. Church will lead this important session\, offering expert insight and practical guidance. \nThis session will cover: \n\nKey rights every immigrant and refugee should know\nBest practices for interactions with immigration officers\nLegal resources available to immigrants in Massachusetts\nWhere to find trustworthy Know Your Rights materials\n\nThis is a valuable opportunity to become more informed\, empowered\, and prepared. We encourage all members of the MCC and NECC community—students\, staff\, faculty\, and allies—to attend. \nRegister Here\n Print View
URL:https://necc.edu/event/know-your-rights-kyr-with-susan-church-esq/
LOCATION:Online\, United States
CATEGORIES:Student Life
ORGANIZER;CN="Maria Hernandez":MAILTO:mhernandez@necc.mass.edu
END:VEVENT
BEGIN:VEVENT
DTSTART;TZID=America/New_York:20250402T123000
DTEND;TZID=America/New_York:20250402T133000
DTSTAMP:20260423T233826
CREATED:20250320T152327Z
LAST-MODIFIED:20250320T152327Z
UID:10010348-1743597000-1743600600@necc.edu
SUMMARY:Educational Opportunity to Learn about Ramadan & Sample Middle Eastern & North African Cuisine
DESCRIPTION:Have you ever been curious about Ramadan?  Have you ever wanted to try Middle Eastern and North African food?  \n  \nThen join us on Wednesday\, April 2 in Haverhill for an educational opportunity to learn about Ramadan from Saida Mofid\, NECC staff member in Accounting & Finance and sample some food.  \n  \nWhen: Wednesday\, April 2\, 2025 \nWhere: Haverhill\, Room B218 \nTime: 12:30pm – 1:30pm \n  \nWe welcome requests for sign language interpreting and other access requests.  Please contact Maria Hernandez at mhernandez@necc.mass.edu for requests\, questions or event information. \n Print View
URL:https://necc.edu/event/educational-opportunity-to-learn-about-ramadan-sample-middle-eastern-north-african-cuisine/
LOCATION:Haverhill Campus\, 100 Elliott St\, Haverhill\, MA\, United States
CATEGORIES:Student Life
ORGANIZER;CN="Maria Hernandez":MAILTO:mhernandez@necc.mass.edu
GEO:42.797649;-71.05113
X-APPLE-STRUCTURED-LOCATION;VALUE=URI;X-ADDRESS=Haverhill Campus 100 Elliott St Haverhill MA United States;X-APPLE-RADIUS=500;X-TITLE=100 Elliott St:geo:-71.05113,42.797649
END:VEVENT
BEGIN:VEVENT
DTSTART;TZID=America/New_York:20250212T120000
DTEND;TZID=America/New_York:20250212T130000
DTSTAMP:20260423T233826
CREATED:20241217T173343Z
LAST-MODIFIED:20241217T173723Z
UID:10009009-1739361600-1739365200@necc.edu
SUMMARY:Wangeci Gitau: immigrant queer African femme
DESCRIPTION:Wangeci Gitau\nKenyan-born writer\, activist\, and educator from the Gikūyū tribe\, Wangeci Gitau (she/they)\, will be sharing her experiences and insights on navigating life as an immigrant\, queer African femme in the global west. \nLiving by Audre Lorde’s powerful words\, “Your silence will not protect you\,” Wangeci’s work spans themes of identity\, resilience\, and self-expression. She is the author of two poetry collections—“there’s the truth then there are other things”(2019) and “I’m not allowed to explain (only foreshadow and reminisce)”(2021)—and was recently featured on “Stories from the Stage” (PBS)\, where she discussed her experience during the 2018 Merrimack Valley gas explosions. \nWangeci is also the co-founder and prose editor at Exposed Brick Literary Magazine and a former public school teacher\, with a Master’s in Literary Arts from Middlebury College’s Bread Loaf School of English. She resides in Lawrence\, MA and is currently working on her first novel. \nDon’t miss this opportunity to hear Wangeci’s powerful story and unique perspective! \nLight snacks will be served. \n Print View
URL:https://necc.edu/event/wangeci-gitau/
LOCATION:Haverhill Campus\, 100 Elliott St\, Haverhill\, MA\, United States
CATEGORIES:Alumni,Business and Accounting Center,Center for Health Professions,Center for STEM,Civic Engagement Service Learning,Community,Justice, Equity, Diversity, and Inclusion,Professional Studies Center
ORGANIZER;CN="Maria Hernandez":MAILTO:mhernandez@necc.mass.edu
GEO:42.797649;-71.05113
X-APPLE-STRUCTURED-LOCATION;VALUE=URI;X-ADDRESS=Haverhill Campus 100 Elliott St Haverhill MA United States;X-APPLE-RADIUS=500;X-TITLE=100 Elliott St:geo:-71.05113,42.797649
END:VEVENT
END:VCALENDAR