BEGIN:VCALENDAR
VERSION:2.0
PRODID:-//Northern Essex CC - ECPv6.15.12//NONSGML v1.0//EN
CALSCALE:GREGORIAN
METHOD:PUBLISH
X-ORIGINAL-URL:https://necc.edu
X-WR-CALDESC:Events for Northern Essex CC
REFRESH-INTERVAL;VALUE=DURATION:PT1H
X-Robots-Tag:noindex
X-PUBLISHED-TTL:PT1H
BEGIN:VTIMEZONE
TZID:America/New_York
BEGIN:DAYLIGHT
TZOFFSETFROM:-0500
TZOFFSETTO:-0400
TZNAME:EDT
DTSTART:20230312T070000
END:DAYLIGHT
BEGIN:STANDARD
TZOFFSETFROM:-0400
TZOFFSETTO:-0500
TZNAME:EST
DTSTART:20231105T060000
END:STANDARD
BEGIN:DAYLIGHT
TZOFFSETFROM:-0500
TZOFFSETTO:-0400
TZNAME:EDT
DTSTART:20240310T070000
END:DAYLIGHT
BEGIN:STANDARD
TZOFFSETFROM:-0400
TZOFFSETTO:-0500
TZNAME:EST
DTSTART:20241103T060000
END:STANDARD
BEGIN:DAYLIGHT
TZOFFSETFROM:-0500
TZOFFSETTO:-0400
TZNAME:EDT
DTSTART:20250309T070000
END:DAYLIGHT
BEGIN:STANDARD
TZOFFSETFROM:-0400
TZOFFSETTO:-0500
TZNAME:EST
DTSTART:20251102T060000
END:STANDARD
END:VTIMEZONE
BEGIN:VEVENT
DTSTART;TZID=America/New_York:20241205T100000
DTEND;TZID=America/New_York:20241205T120000
DTSTAMP:20260424T110030
CREATED:20241118T194042Z
LAST-MODIFIED:20241127T170144Z
UID:10008921-1733392800-1733400000@necc.edu
SUMMARY:Stuff a Cruiser Gift Drive
DESCRIPTION:Donate new\, unwrapped toys for a child in need. \nGift cards to Target\, Walmart\, Market Basket\, or gas cards are also welcome. \nDonors will be entered in a raffle to win a pair of Boston sports tickets (1 entry per person) \nHAVERHILL CAMPUS \nSpurk  \nParking Lot:\n10:00 a.m. – 12:00 p.m.\n3:00 p.m. – 5:00 p.m. \nC110:\n7:00 a.m. – 3:00 p.m. \nLAWRENCE CAMPUS \nDimitry Parking Lot: \n10:00 a.m. – 12:00 p.m.\n3:00 p.m. – 5:00 p.m. \n Print View
URL:https://necc.edu/event/stuff-a-cruiser-gift-drive-2/2024-12-05/1/
LOCATION:All Campuses\, Lawrence\, MA\, United States
CATEGORIES:Alumni,Business Events,Community
ORGANIZER;CN="Public Safety":MAILTO:publicsafety@necc.mass.edu
GEO:42.709053;-71.169601
END:VEVENT
BEGIN:VEVENT
DTSTART;TZID=America/New_York:20241204T150000
DTEND;TZID=America/New_York:20241204T170000
DTSTAMP:20260424T110030
CREATED:20241118T194042Z
LAST-MODIFIED:20241127T170144Z
UID:10008920-1733324400-1733331600@necc.edu
SUMMARY:Stuff a Cruiser Gift Drive
DESCRIPTION:Donate new\, unwrapped toys for a child in need. \nGift cards to Target\, Walmart\, Market Basket\, or gas cards are also welcome. \nDonors will be entered in a raffle to win a pair of Boston sports tickets (1 entry per person) \nHAVERHILL CAMPUS \nSpurk  \nParking Lot:\n10:00 a.m. – 12:00 p.m.\n3:00 p.m. – 5:00 p.m. \nC110:\n7:00 a.m. – 3:00 p.m. \nLAWRENCE CAMPUS \nDimitry Parking Lot: \n10:00 a.m. – 12:00 p.m.\n3:00 p.m. – 5:00 p.m. \n Print View
URL:https://necc.edu/event/stuff-a-cruiser-gift-drive-2/2024-12-04/2/
LOCATION:All Campuses\, Lawrence\, MA\, United States
CATEGORIES:Alumni,Business Events,Community
ORGANIZER;CN="Public Safety":MAILTO:publicsafety@necc.mass.edu
GEO:42.709053;-71.169601
END:VEVENT
BEGIN:VEVENT
DTSTART;TZID=America/New_York:20241204T100000
DTEND;TZID=America/New_York:20241204T120000
DTSTAMP:20260424T110030
CREATED:20241118T194042Z
LAST-MODIFIED:20241127T170144Z
UID:10008919-1733306400-1733313600@necc.edu
SUMMARY:Stuff a Cruiser Gift Drive
DESCRIPTION:Donate new\, unwrapped toys for a child in need. \nGift cards to Target\, Walmart\, Market Basket\, or gas cards are also welcome. \nDonors will be entered in a raffle to win a pair of Boston sports tickets (1 entry per person) \nHAVERHILL CAMPUS \nSpurk  \nParking Lot:\n10:00 a.m. – 12:00 p.m.\n3:00 p.m. – 5:00 p.m. \nC110:\n7:00 a.m. – 3:00 p.m. \nLAWRENCE CAMPUS \nDimitry Parking Lot: \n10:00 a.m. – 12:00 p.m.\n3:00 p.m. – 5:00 p.m. \n Print View
URL:https://necc.edu/event/stuff-a-cruiser-gift-drive-2/2024-12-04/1/
LOCATION:All Campuses\, Lawrence\, MA\, United States
CATEGORIES:Alumni,Business Events,Community
ORGANIZER;CN="Public Safety":MAILTO:publicsafety@necc.mass.edu
GEO:42.709053;-71.169601
END:VEVENT
BEGIN:VEVENT
DTSTART;TZID=America/New_York:20241203T150000
DTEND;TZID=America/New_York:20241203T170000
DTSTAMP:20260424T110030
CREATED:20241118T194042Z
LAST-MODIFIED:20241127T170144Z
UID:10008918-1733238000-1733245200@necc.edu
SUMMARY:Stuff a Cruiser Gift Drive
DESCRIPTION:Donate new\, unwrapped toys for a child in need. \nGift cards to Target\, Walmart\, Market Basket\, or gas cards are also welcome. \nDonors will be entered in a raffle to win a pair of Boston sports tickets (1 entry per person) \nHAVERHILL CAMPUS \nSpurk  \nParking Lot:\n10:00 a.m. – 12:00 p.m.\n3:00 p.m. – 5:00 p.m. \nC110:\n7:00 a.m. – 3:00 p.m. \nLAWRENCE CAMPUS \nDimitry Parking Lot: \n10:00 a.m. – 12:00 p.m.\n3:00 p.m. – 5:00 p.m. \n Print View
URL:https://necc.edu/event/stuff-a-cruiser-gift-drive-2/2024-12-03/2/
LOCATION:All Campuses\, Lawrence\, MA\, United States
CATEGORIES:Alumni,Business Events,Community
ORGANIZER;CN="Public Safety":MAILTO:publicsafety@necc.mass.edu
GEO:42.709053;-71.169601
END:VEVENT
BEGIN:VEVENT
DTSTART;TZID=America/New_York:20241203T100000
DTEND;TZID=America/New_York:20241203T120000
DTSTAMP:20260424T110030
CREATED:20241118T194042Z
LAST-MODIFIED:20241127T170144Z
UID:10008917-1733220000-1733227200@necc.edu
SUMMARY:Stuff a Cruiser Gift Drive
DESCRIPTION:Donate new\, unwrapped toys for a child in need. \nGift cards to Target\, Walmart\, Market Basket\, or gas cards are also welcome. \nDonors will be entered in a raffle to win a pair of Boston sports tickets (1 entry per person) \nHAVERHILL CAMPUS \nSpurk  \nParking Lot:\n10:00 a.m. – 12:00 p.m.\n3:00 p.m. – 5:00 p.m. \nC110:\n7:00 a.m. – 3:00 p.m. \nLAWRENCE CAMPUS \nDimitry Parking Lot: \n10:00 a.m. – 12:00 p.m.\n3:00 p.m. – 5:00 p.m. \n Print View
URL:https://necc.edu/event/stuff-a-cruiser-gift-drive-2/2024-12-03/1/
LOCATION:All Campuses\, Lawrence\, MA\, United States
CATEGORIES:Alumni,Business Events,Community
ORGANIZER;CN="Public Safety":MAILTO:publicsafety@necc.mass.edu
GEO:42.709053;-71.169601
END:VEVENT
BEGIN:VEVENT
DTSTART;TZID=America/New_York:20241202T150000
DTEND;TZID=America/New_York:20241202T170000
DTSTAMP:20260424T110030
CREATED:20241118T194042Z
LAST-MODIFIED:20241127T170144Z
UID:10008916-1733151600-1733158800@necc.edu
SUMMARY:Stuff a Cruiser Gift Drive
DESCRIPTION:Donate new\, unwrapped toys for a child in need. \nGift cards to Target\, Walmart\, Market Basket\, or gas cards are also welcome. \nDonors will be entered in a raffle to win a pair of Boston sports tickets (1 entry per person) \nHAVERHILL CAMPUS \nSpurk  \nParking Lot:\n10:00 a.m. – 12:00 p.m.\n3:00 p.m. – 5:00 p.m. \nC110:\n7:00 a.m. – 3:00 p.m. \nLAWRENCE CAMPUS \nDimitry Parking Lot: \n10:00 a.m. – 12:00 p.m.\n3:00 p.m. – 5:00 p.m. \n Print View
URL:https://necc.edu/event/stuff-a-cruiser-gift-drive-2/2024-12-02/2/
LOCATION:All Campuses\, Lawrence\, MA\, United States
CATEGORIES:Alumni,Business Events,Community
ORGANIZER;CN="Public Safety":MAILTO:publicsafety@necc.mass.edu
GEO:42.709053;-71.169601
END:VEVENT
BEGIN:VEVENT
DTSTART;TZID=America/New_York:20241202T130000
DTEND;TZID=America/New_York:20241202T150000
DTSTAMP:20260424T110030
CREATED:20241107T031631Z
LAST-MODIFIED:20241122T160333Z
UID:10008810-1733144400-1733151600@necc.edu
SUMMARY:C.R.A.S.E  (Civilian Response to Active Shooter Events) Training 
DESCRIPTION:C.R.A.S.E  (Civilian Response to Active Shooter Events) Training \n \n\nNovember 18th on the Haverhill Campus C155 (Spurk Building) from 1-3PM\nDecember 2nd on the Lawrence Campus LC132 (El Hefni Building) from 1-3PM\n \n\nPlease use the following link to sign up: Sign Up FORM \n Print View
URL:https://necc.edu/event/c-r-a-s-e-civilan-response-to-active-shooter-events-training/
LOCATION:Lawrence Campus\, Lawrence\, MA\, United States
ORGANIZER;CN="Student Life":MAILTO:studentlife@necc.mass.edu
GEO:42.70734;-71.161052
END:VEVENT
BEGIN:VEVENT
DTSTART;TZID=America/New_York:20241202T100000
DTEND;TZID=America/New_York:20241202T120000
DTSTAMP:20260424T110030
CREATED:20241118T194042Z
LAST-MODIFIED:20241127T170144Z
UID:10008915-1733133600-1733140800@necc.edu
SUMMARY:Stuff a Cruiser Gift Drive
DESCRIPTION:Donate new\, unwrapped toys for a child in need. \nGift cards to Target\, Walmart\, Market Basket\, or gas cards are also welcome. \nDonors will be entered in a raffle to win a pair of Boston sports tickets (1 entry per person) \nHAVERHILL CAMPUS \nSpurk  \nParking Lot:\n10:00 a.m. – 12:00 p.m.\n3:00 p.m. – 5:00 p.m. \nC110:\n7:00 a.m. – 3:00 p.m. \nLAWRENCE CAMPUS \nDimitry Parking Lot: \n10:00 a.m. – 12:00 p.m.\n3:00 p.m. – 5:00 p.m. \n Print View
URL:https://necc.edu/event/stuff-a-cruiser-gift-drive-2/2024-12-02/1/
LOCATION:All Campuses\, Lawrence\, MA\, United States
CATEGORIES:Alumni,Business Events,Community
ORGANIZER;CN="Public Safety":MAILTO:publicsafety@necc.mass.edu
GEO:42.709053;-71.169601
END:VEVENT
BEGIN:VEVENT
DTSTART;TZID=America/New_York:20241118T130000
DTEND;TZID=America/New_York:20241118T150000
DTSTAMP:20260424T110030
CREATED:20241107T031339Z
LAST-MODIFIED:20241107T185331Z
UID:10008809-1731934800-1731942000@necc.edu
SUMMARY:C.R.A.S.E. (Civilian Response to Active Shooter Events) Training
DESCRIPTION:C.R.A.S.E  (Civilian Response to Active Shooter Events) Training \n  \n\nNovember 18th on the Haverhill Campus C155 (Spurk Building) from 1-3PM\nDecember 2nd on the Lawrence Campus LC132 (El Hefni Building) from 1-3PM\n\n  \nPlease use the following link to sign up: Sign Up FORM \n  \n  \n  \n Print View
URL:https://necc.edu/event/c-r-a-s-e-training-5/
LOCATION:Haverhill Campus\, 100 Elliott St\, Haverhill\, MA\, United States
ORGANIZER;CN="Student Life":MAILTO:studentlife@necc.mass.edu
GEO:42.797649;-71.05113
X-APPLE-STRUCTURED-LOCATION;VALUE=URI;X-ADDRESS=Haverhill Campus 100 Elliott St Haverhill MA United States;X-APPLE-RADIUS=500;X-TITLE=100 Elliott St:geo:-71.05113,42.797649
END:VEVENT
END:VCALENDAR