BEGIN:VCALENDAR
VERSION:2.0
PRODID:-//Northern Essex CC - ECPv6.15.12//NONSGML v1.0//EN
CALSCALE:GREGORIAN
METHOD:PUBLISH
X-WR-CALNAME:Northern Essex CC
X-ORIGINAL-URL:https://necc.edu
X-WR-CALDESC:Events for Northern Essex CC
REFRESH-INTERVAL;VALUE=DURATION:PT1H
X-Robots-Tag:noindex
X-PUBLISHED-TTL:PT1H
BEGIN:VTIMEZONE
TZID:America/New_York
BEGIN:DAYLIGHT
TZOFFSETFROM:-0500
TZOFFSETTO:-0400
TZNAME:EDT
DTSTART:20250309T070000
END:DAYLIGHT
BEGIN:STANDARD
TZOFFSETFROM:-0400
TZOFFSETTO:-0500
TZNAME:EST
DTSTART:20251102T060000
END:STANDARD
BEGIN:DAYLIGHT
TZOFFSETFROM:-0500
TZOFFSETTO:-0400
TZNAME:EDT
DTSTART:20260308T070000
END:DAYLIGHT
BEGIN:STANDARD
TZOFFSETFROM:-0400
TZOFFSETTO:-0500
TZNAME:EST
DTSTART:20261101T060000
END:STANDARD
BEGIN:DAYLIGHT
TZOFFSETFROM:-0500
TZOFFSETTO:-0400
TZNAME:EDT
DTSTART:20270314T070000
END:DAYLIGHT
BEGIN:STANDARD
TZOFFSETFROM:-0400
TZOFFSETTO:-0500
TZNAME:EST
DTSTART:20271107T060000
END:STANDARD
END:VTIMEZONE
BEGIN:VEVENT
DTSTART;TZID=America/New_York:20260424T190000
DTEND;TZID=America/New_York:20260424T213000
DTSTAMP:20260422T172412
CREATED:20260317T215918Z
LAST-MODIFIED:20260403T165756Z
UID:10011522-1777057200-1777066200@necc.edu
SUMMARY:OUTDOOR! Campus Cinema Nights - Despicable Me
DESCRIPTION:Friday\, April 24 \nHaverhill Campus Quad \n7:00 PM – Get Settled\, Have Fun! \nApprox. 7:30 PM (or sunset) – Movie Begins \n  \nKick back under the stars for a night of fun on the Haverhill Quad! Activities start at 7:00 PM with free popcorn and cotton candy\, face painting\, balloons\, and a food truck! \nThen at 7:30 PM\, settle in on your blanket or lawn chair for Despicable Me! \nThis event is free and open to students\, friends\, and family—everyone’s invited to celebrate campus spirit with a movie night to remember. \n  \n Print View
URL:https://necc.edu/event/outdoor-campus-cinema-nights-despicable-me/
LOCATION:Haverhill Campus\, 100 Elliott St\, Haverhill\, MA\, United States
CATEGORIES:Student Activities,Student Life
ORGANIZER;CN="Student Life":MAILTO:studentlife@necc.mass.edu
GEO:42.797649;-71.05113
X-APPLE-STRUCTURED-LOCATION;VALUE=URI;X-ADDRESS=Haverhill Campus 100 Elliott St Haverhill MA United States;X-APPLE-RADIUS=500;X-TITLE=100 Elliott St:geo:-71.05113,42.797649
END:VEVENT
BEGIN:VEVENT
DTSTART;TZID=America/New_York:20260427T140000
DTEND;TZID=America/New_York:20260427T170000
DTSTAMP:20260422T172412
CREATED:20260331T191738Z
LAST-MODIFIED:20260331T192015Z
UID:10011591-1777298400-1777309200@necc.edu
SUMMARY:Class of 2026: Grad Fair Celebration!
DESCRIPTION:Lawrence Campus \nMonday\, April 27 \n2:00 PM – 5:00 PM \nEl Hefni LC-301 (and rooftop patio!) \n\nGet ready for Commencement at our high-energy Grad Fair! Join us for a celebratory afternoon of prep\, food\, and fun as you gear up for the finish line. \nCommencement Prep \n\nRegalia: Purchase your cap and gown.\nCap Decorating: Customize your graduation cap at our DIY station.\nResources: Connect with Career Services and campus/community partners.\n\nFood & Fun \n\nBBQ Grill-Out: Free food\, live music\, and giveaways.\nPhoto Booth: See yourself on the cover of AlumNECC Magazine!\nTie-Dye: Create a custom keepsake at our tie-dye tee station.\n\nEverything you need for the big day in one stop. See you there! \n Print View
URL:https://necc.edu/event/class-of-2026-grad-fair-celebration-lawrence/
LOCATION:Lawrence Campus\, Lawrence\, MA\, United States
CATEGORIES:Student Activities,Student Life
ORGANIZER;CN="Student Life":MAILTO:studentlife@necc.mass.edu
GEO:42.70734;-71.161052
END:VEVENT
BEGIN:VEVENT
DTSTART;TZID=America/New_York:20260427T140000
DTEND;TZID=America/New_York:20260427T190000
DTSTAMP:20260422T172412
CREATED:20260316T141043Z
LAST-MODIFIED:20260318T152058Z
UID:10011518-1777298400-1777316400@necc.edu
SUMMARY:Red Cross Blood Drive: Sponsored by NECC Respiratory Care Club
DESCRIPTION:Blood donors make a difference! Schedule today! \nAmerican Red Cross x Northern Essex Community College Blood Drive \nSponsored by the NECC Respiratory Care Club \n  \nLawrence Campus \nDimitry L-Atrium \n45 Franklin Street\, Lawrence MA 01840 \nMonday\, April 27\, 2026 \n2:00 PM – 7:00 PM \n  \nAppointments required! Please call 1-800-REDCROSS (1-800-733-2767) or visit RedCrossBlood.org and enter “Lawrence” to schedule an appointment. \n  \nStreamline your donation experience and save up to 15 minutes by visiting RedCrossBlood.org/RapidPass to complete your pre-donation and health history questions on the day of the blood drive. \n  \nMaximize your blood donation. Help more patients. \nIf you are an eligible type O\, B-\, or A- donor\, consider making a Power Red donation. Red blood cells are the most commonly transfused blood component. \n Print View
URL:https://necc.edu/event/red-cross-blood-drive-respiratory-care-club/
LOCATION:Lawrence Campus\, Lawrence\, MA\, United States
CATEGORIES:Home Page Events,Student Activities,Student Life
ORGANIZER;CN="Student Life":MAILTO:studentlife@necc.mass.edu
GEO:42.70734;-71.161052
END:VEVENT
BEGIN:VEVENT
DTSTART;TZID=America/New_York:20260428T120000
DTEND;TZID=America/New_York:20260428T150000
DTSTAMP:20260422T172412
CREATED:20260331T191937Z
LAST-MODIFIED:20260331T191937Z
UID:10011592-1777377600-1777388400@necc.edu
SUMMARY:Class of 2026: Grad Fair Celebration!
DESCRIPTION:Haverhill Campus \nTuesday\, April 28 \n12:00 PM – 3:00 PM \nHartleb Technology Center TC-103 (and just outside!) \n\nGet ready for Commencement at our high-energy Grad Fair! Join us for a celebratory afternoon of prep\, food\, and fun as you gear up for the finish line. \nCommencement Prep \n\nRegalia: Purchase your cap and gown.\nCap Decorating: Customize your graduation cap at our DIY station.\nResources: Connect with Career Services and campus/community partners.\n\nFood & Fun \n\nBBQ Grill-Out: Free food\, live music\, and giveaways.\nPhoto Booth: See yourself on the cover of AlumNECC Magazine!\nTie-Dye: Create a custom keepsake at our tie-dye tee station.\n\nEverything you need for the big day in one stop. See you there! \n Print View
URL:https://necc.edu/event/class-of-2026-grad-fair-celebration-haverhill/
LOCATION:Haverhill Campus\, 100 Elliott St\, Haverhill\, MA\, United States
CATEGORIES:Student Activities,Student Life
ORGANIZER;CN="Student Life":MAILTO:studentlife@necc.mass.edu
GEO:42.797649;-71.05113
X-APPLE-STRUCTURED-LOCATION;VALUE=URI;X-ADDRESS=Haverhill Campus 100 Elliott St Haverhill MA United States;X-APPLE-RADIUS=500;X-TITLE=100 Elliott St:geo:-71.05113,42.797649
END:VEVENT
BEGIN:VEVENT
DTSTART;TZID=America/New_York:20260428T160000
DTEND;TZID=America/New_York:20260428T173000
DTSTAMP:20260422T172412
CREATED:20251023T154811Z
LAST-MODIFIED:20251023T154835Z
UID:10011146-1777392000-1777397400@necc.edu
SUMMARY:Student Government Association (SGA) Meeting
DESCRIPTION:The Student Government Association represents the voice of NECC students by advocating for student needs\, supporting campus initiatives\, and strengthening communication between students\, clubs\, and college leadership. \nAll students are welcome to attend — you do not need to be an active SGA member to participate. Come share your ideas\, voice your concerns\, and learn more about how student leadership works at NECC. \nIn-person: Haverhill Campus\, Student Center 203 \nOnline: Via Zoom \nPlease contact studentlife@necc.mass.edu for the Zoom link to attend this meeting virtually. \n Print View
URL:https://necc.edu/event/student-government-association-sga-meeting-2/2026-04-28/
LOCATION:All Campuses\, Lawrence\, MA\, United States
CATEGORIES:Home Page Events,Student Activities,Student Life
ORGANIZER;CN="Student Life":MAILTO:studentlife@necc.mass.edu
GEO:42.709053;-71.169601
END:VEVENT
BEGIN:VEVENT
DTSTART;TZID=America/New_York:20260508T190000
DTEND;TZID=America/New_York:20260508T213000
DTSTAMP:20260422T172412
CREATED:20260317T220036Z
LAST-MODIFIED:20260403T165837Z
UID:10011523-1778266800-1778275800@necc.edu
SUMMARY:OUTDOOR! Campus Cinema Nights - Lilo and Stitch
DESCRIPTION:Friday\, May 8 \nHaverhill Campus Quad \n7:00 PM – Get Settled\, Have Fun! \nApprox. 7:30 PM (or sunset) – Movie Begins \n  \nKick back under the stars for a night of fun on the Haverhill Quad! Activities start at 7:00 PM with free popcorn and cotton candy\, Kona Ice\, and glow swings! \nThen at 7:30 PM\, settle in on your blanket or lawn chair for Lilo and Stitch! \nThis event is free and open to students\, friends\, and family—everyone’s invited to celebrate campus spirit with a movie night to remember. \n  \n Print View
URL:https://necc.edu/event/outdoor-campus-cinema-nights-lilo-and-stitch/
LOCATION:Haverhill Campus\, 100 Elliott St\, Haverhill\, MA\, United States
CATEGORIES:Student Activities,Student Life
ORGANIZER;CN="Student Life":MAILTO:studentlife@necc.mass.edu
GEO:42.797649;-71.05113
X-APPLE-STRUCTURED-LOCATION;VALUE=URI;X-ADDRESS=Haverhill Campus 100 Elliott St Haverhill MA United States;X-APPLE-RADIUS=500;X-TITLE=100 Elliott St:geo:-71.05113,42.797649
END:VEVENT
END:VCALENDAR