BEGIN:VCALENDAR
VERSION:2.0
PRODID:-//Northern Essex CC - ECPv6.15.12//NONSGML v1.0//EN
CALSCALE:GREGORIAN
METHOD:PUBLISH
X-WR-CALNAME:Northern Essex CC
X-ORIGINAL-URL:https://necc.edu
X-WR-CALDESC:Events for Northern Essex CC
REFRESH-INTERVAL;VALUE=DURATION:PT1H
X-Robots-Tag:noindex
X-PUBLISHED-TTL:PT1H
BEGIN:VTIMEZONE
TZID:America/New_York
BEGIN:DAYLIGHT
TZOFFSETFROM:-0500
TZOFFSETTO:-0400
TZNAME:EDT
DTSTART:20240310T070000
END:DAYLIGHT
BEGIN:STANDARD
TZOFFSETFROM:-0400
TZOFFSETTO:-0500
TZNAME:EST
DTSTART:20241103T060000
END:STANDARD
BEGIN:DAYLIGHT
TZOFFSETFROM:-0500
TZOFFSETTO:-0400
TZNAME:EDT
DTSTART:20250309T070000
END:DAYLIGHT
BEGIN:STANDARD
TZOFFSETFROM:-0400
TZOFFSETTO:-0500
TZNAME:EST
DTSTART:20251102T060000
END:STANDARD
BEGIN:DAYLIGHT
TZOFFSETFROM:-0500
TZOFFSETTO:-0400
TZNAME:EDT
DTSTART:20260308T070000
END:DAYLIGHT
BEGIN:STANDARD
TZOFFSETFROM:-0400
TZOFFSETTO:-0500
TZNAME:EST
DTSTART:20261101T060000
END:STANDARD
END:VTIMEZONE
BEGIN:VEVENT
DTSTART;TZID=America/New_York:20251201T140000
DTEND;TZID=America/New_York:20251201T150000
DTSTAMP:20260420T085403
CREATED:20251030T180015Z
LAST-MODIFIED:20251030T180031Z
UID:10011160-1764597600-1764601200@necc.edu
SUMMARY:📝 The Language of Artificial Intelligence
DESCRIPTION:Join the AI Task Force for a special one-hour event!\nDecode AI Writing Patterns & Enhance Your Detection Skills\nLearn to Recognize\, Respond to\, and Refine AI-Generated Text \nAfter attending this meeting\, you will be able to recognize common patterns in AI-generated writing. We will look at why certain AI writing habits make text less convincing\, even when the grammar is correct. Examples include overused phrases like “delve into” or “it’s important to note.” We will also examine constructions\, like rhetorical contrasts such as “not only… but also”\, that are often used in AI-generated text. Participants will learn to spot these patterns in student work. We will discuss how to give better feedback when we see AI-influenced writing. The workshop will also cover how to use AI tools more effectively in our own work. We can improve our writing by recognizing and avoiding these formulaic styles.  \n📅 Date: Monday\, December 1\, 2025\n🕐 Time: 2:00 PM (1 hour) via Zoom\n👥 Who Should Attend: NECC Faculty & Staff\n🔗 Register Now: Registration Link\n📧 Questions? Contact Sue Tashjian: stashjian@necc.mass.edu \n Print View
URL:https://necc.edu/event/the-language-of-artificial-intelligence/
LOCATION:Online\, United States
CATEGORIES:Professional Development
ORGANIZER;CN="Sue Tashjian":MAILTO:stashjian@necc.mass.edu
END:VEVENT
BEGIN:VEVENT
DTSTART;TZID=America/New_York:20251119T140000
DTEND;TZID=America/New_York:20251119T150000
DTSTAMP:20260420T085403
CREATED:20251030T175811Z
LAST-MODIFIED:20251030T180233Z
UID:10011159-1763560800-1763564400@necc.edu
SUMMARY:🤖 The Basics of AI Using Microsoft Copilot
DESCRIPTION:Transform Your Work with AI – No Experience Required!\nLearn AI Fundamentals & Practical Skills in Just One Hour\nThis one-hour workshop introduces NECC faculty and staff to the basics of AI using Microsoft Copilot\, a free tool that can streamline everyday work tasks. Participants will learn what AI actually is\, dispel common misconceptions\, and discover how to write effective prompts that yield useful results. Through hands-on practice\, attendees will explore practical applications including drafting emails\, creating teaching materials\, generating rubrics\, and building PowerPoint outlines. The workshop emphasizes that AI is a tool requiring human guidance\, not a replacement for professional judgment\, and provides techniques for iterative refinement of AI-generated content. Led by NECC’s AI Task Force\, this session offers practical skills you can use immediately while contributing to the college’s broader AI policy development. \n  \n📍 Location: Haverhill campus\, Room C206 – Space is limited – more days and times will be offered!\n👥 Who Should Attend: All NECC Faculty & Staff\n🔗 Register Now: Registration Link \n📧 Questions? Contact Sue Tashjian: stashjian@necc.mass.edu \n Print View
URL:https://necc.edu/event/the-basics-of-ai-using-microsoft-copilot/2025-11-19/
LOCATION:Haverhill Campus\, 100 Elliott St\, Haverhill\, MA\, United States
CATEGORIES:Professional Development
ORGANIZER;CN="Sue Tashjian":MAILTO:stashjian@necc.mass.edu
GEO:42.797649;-71.05113
X-APPLE-STRUCTURED-LOCATION;VALUE=URI;X-ADDRESS=Haverhill Campus 100 Elliott St Haverhill MA United States;X-APPLE-RADIUS=500;X-TITLE=100 Elliott St:geo:-71.05113,42.797649
END:VEVENT
BEGIN:VEVENT
DTSTART;TZID=America/New_York:20251118T100000
DTEND;TZID=America/New_York:20251118T110000
DTSTAMP:20260420T085403
CREATED:20251030T175811Z
LAST-MODIFIED:20251030T180233Z
UID:10011158-1763460000-1763463600@necc.edu
SUMMARY:🤖 The Basics of AI Using Microsoft Copilot
DESCRIPTION:Transform Your Work with AI – No Experience Required!\nLearn AI Fundamentals & Practical Skills in Just One Hour\nThis one-hour workshop introduces NECC faculty and staff to the basics of AI using Microsoft Copilot\, a free tool that can streamline everyday work tasks. Participants will learn what AI actually is\, dispel common misconceptions\, and discover how to write effective prompts that yield useful results. Through hands-on practice\, attendees will explore practical applications including drafting emails\, creating teaching materials\, generating rubrics\, and building PowerPoint outlines. The workshop emphasizes that AI is a tool requiring human guidance\, not a replacement for professional judgment\, and provides techniques for iterative refinement of AI-generated content. Led by NECC’s AI Task Force\, this session offers practical skills you can use immediately while contributing to the college’s broader AI policy development. \n  \n📍 Location: Haverhill campus\, Room C206 – Space is limited – more days and times will be offered!\n👥 Who Should Attend: All NECC Faculty & Staff\n🔗 Register Now: Registration Link \n📧 Questions? Contact Sue Tashjian: stashjian@necc.mass.edu \n Print View
URL:https://necc.edu/event/the-basics-of-ai-using-microsoft-copilot/2025-11-18/
LOCATION:Haverhill Campus\, 100 Elliott St\, Haverhill\, MA\, United States
CATEGORIES:Professional Development
ORGANIZER;CN="Sue Tashjian":MAILTO:stashjian@necc.mass.edu
GEO:42.797649;-71.05113
X-APPLE-STRUCTURED-LOCATION;VALUE=URI;X-ADDRESS=Haverhill Campus 100 Elliott St Haverhill MA United States;X-APPLE-RADIUS=500;X-TITLE=100 Elliott St:geo:-71.05113,42.797649
END:VEVENT
END:VCALENDAR