BEGIN:VCALENDAR
VERSION:2.0
PRODID:-//Northern Essex CC - ECPv6.15.12//NONSGML v1.0//EN
CALSCALE:GREGORIAN
METHOD:PUBLISH
X-ORIGINAL-URL:https://necc.edu
X-WR-CALDESC:Events for Northern Essex CC
REFRESH-INTERVAL;VALUE=DURATION:PT1H
X-Robots-Tag:noindex
X-PUBLISHED-TTL:PT1H
BEGIN:VTIMEZONE
TZID:America/New_York
BEGIN:DAYLIGHT
TZOFFSETFROM:-0500
TZOFFSETTO:-0400
TZNAME:EDT
DTSTART:20250309T070000
END:DAYLIGHT
BEGIN:STANDARD
TZOFFSETFROM:-0400
TZOFFSETTO:-0500
TZNAME:EST
DTSTART:20251102T060000
END:STANDARD
BEGIN:DAYLIGHT
TZOFFSETFROM:-0500
TZOFFSETTO:-0400
TZNAME:EDT
DTSTART:20260308T070000
END:DAYLIGHT
BEGIN:STANDARD
TZOFFSETFROM:-0400
TZOFFSETTO:-0500
TZNAME:EST
DTSTART:20261101T060000
END:STANDARD
BEGIN:DAYLIGHT
TZOFFSETFROM:-0500
TZOFFSETTO:-0400
TZNAME:EDT
DTSTART:20270314T070000
END:DAYLIGHT
BEGIN:STANDARD
TZOFFSETFROM:-0400
TZOFFSETTO:-0500
TZNAME:EST
DTSTART:20271107T060000
END:STANDARD
END:VTIMEZONE
BEGIN:VEVENT
DTSTART;TZID=America/New_York:20260423T110000
DTEND;TZID=America/New_York:20260423T123000
DTSTAMP:20260422T190131
CREATED:20260204T183957Z
LAST-MODIFIED:20260410T180754Z
UID:10011441-1776942000-1776947400@necc.edu
SUMMARY:NECC Library: Spring Semester Book Swap
DESCRIPTION:Do you dream of visiting a book fair? Celebrate the Spring Semester and all of your hard work with a trip to NECC’s own Book Fair-themed Book Swap! Bring: a book (or two) that you would like to give away. We’ll provide the book bags\, swag\, stickers\, and other goodies that you can take home\, along with some new (to you) books. Students\, faculty\, and staff are all invited to Haverhill Commons (C201). \nFor more information\, contact Susan Leonardi or Sarah Regan-Kelley. \n Print View
URL:https://necc.edu/event/necc-library-spring-semester-book-swap/
LOCATION:Haverhill Campus\, 100 Elliott St\, Haverhill\, MA\, United States
CATEGORIES:Home Page Events,Liberal Arts Center,Library,Student Activities,Student Life,The Commons
ORGANIZER;CN="Susan Leonardi":MAILTO:sleonardi@necc.mass.edu
GEO:42.797649;-71.05113
X-APPLE-STRUCTURED-LOCATION;VALUE=URI;X-ADDRESS=Haverhill Campus 100 Elliott St Haverhill MA United States;X-APPLE-RADIUS=500;X-TITLE=100 Elliott St:geo:-71.05113,42.797649
END:VEVENT
BEGIN:VEVENT
DTSTART;TZID=America/New_York:20260423T130000
DTEND;TZID=America/New_York:20260423T143000
DTSTAMP:20260422T190131
CREATED:20260204T184314Z
LAST-MODIFIED:20260410T181200Z
UID:10011442-1776949200-1776954600@necc.edu
SUMMARY:NECC Library: Spring Semester Book Swap
DESCRIPTION:Do you dream of visiting a book fair? Celebrate the Spring Semester and all of your hard work with a trip to NECC’s own Book Fair-themed Book Swap! Bring: a book (or two) that you would like to give away. We’ll provide the book bags\, swag\, stickers\, and other goodies that you can take home\, along with some new (to you) books. Students\, faculty\, and staff are all invited to the Lawrence Campus Library (L007). \nContact Grace Spaulding or Susan Leonardi for more information.  \n Print View
URL:https://necc.edu/event/necc-library-spring-semester-book-swap-2/
LOCATION:Lawrence Campus\, Lawrence\, MA\, United States
CATEGORIES:Home Page Events,Liberal Arts Center,Library,Student Activities,Student Life,The Commons
ORGANIZER;CN="Susan Leonardi":MAILTO:sleonardi@necc.mass.edu
GEO:42.70734;-71.161052
END:VEVENT
BEGIN:VEVENT
DTSTART;TZID=America/New_York:20260428T120000
DTEND;TZID=America/New_York:20260428T160000
DTSTAMP:20260422T190131
CREATED:20260408T143231Z
LAST-MODIFIED:20260408T143231Z
UID:10011598-1777377600-1777392000@necc.edu
SUMMARY:Spring Semester Study Crawl
DESCRIPTION:Procrastinating now that the sun is out? You’re not alone—and this crawl is here to help you finish strong this semester. Join us for a fun\, low‑pressure study crawl across the Haverhill campus with built‑in motivation (tutors\, librarians\, and snacks!). Start your study journey in the Haverhill Commons (C201)\, then move to Bentley Library (Building A)\, and reward yourself by watching a Kanopy collection of STASH Animated short films in Lecture Hall A (Spurk Building C). Come on your own or bring your study buddies. Stay for the entire crawl or just drop in! \nThe Study Crawl schedule:\n12:00 – 1:00 pm – Haverhill Commons/Tutoring Center (pizza)\n1:30 – 2:30 pm – Bentley Library (coffee/tea/donuts)\n3:00 – 4:00 pm – Lecture Hall A for short films with popcorn \nFor more information\, contact Madison King or Susan Leonardi. \n\n Print View
URL:https://necc.edu/event/spring-semester-study-crawl/
LOCATION:Haverhill Campus\, 100 Elliott St\, Haverhill\, MA\, United States
CATEGORIES:Library,Student Activities,Student Life,The Commons
ORGANIZER;CN="Susan Leonardi":MAILTO:sleonardi@necc.mass.edu
GEO:42.797649;-71.05113
X-APPLE-STRUCTURED-LOCATION;VALUE=URI;X-ADDRESS=Haverhill Campus 100 Elliott St Haverhill MA United States;X-APPLE-RADIUS=500;X-TITLE=100 Elliott St:geo:-71.05113,42.797649
END:VEVENT
BEGIN:VEVENT
DTSTART;TZID=America/New_York:20260429T100000
DTEND;TZID=America/New_York:20260429T110000
DTSTAMP:20260422T190131
CREATED:20260410T193227Z
LAST-MODIFIED:20260410T193935Z
UID:10011609-1777456800-1777460400@necc.edu
SUMMARY:Brightspace Workshop
DESCRIPTION:NECC is moving from Blackboard to Brightspace starting this summer. \nJoin us to learn the basics of Brightspace\, including navigating your courses\, submitting assignments\, setting up notifications\, and much more. \nWorkshops will be offered in-person at both campuses and online. \nClick here to sign up for a workshop.  \n Print View
URL:https://necc.edu/event/brightspace-workshop/2026-04-29/
LOCATION:All Campuses\, Lawrence\, MA\, United States
CATEGORIES:Business and Accounting Center,Center for Health Professions,Center for STEM,Liberal Arts Center,Library,PACE,Professional Studies Center,SOAR,Student Life,Student Support Resources,The Commons
ORGANIZER;CN="Susan Leonardi":MAILTO:sleonardi@necc.mass.edu
GEO:42.709053;-71.169601
END:VEVENT
BEGIN:VEVENT
DTSTART;TZID=America/New_York:20260429T120000
DTEND;TZID=America/New_York:20260429T160000
DTSTAMP:20260422T190131
CREATED:20260408T144417Z
LAST-MODIFIED:20260408T144454Z
UID:10011599-1777464000-1777478400@necc.edu
SUMMARY:Spring Semester Study Crawl
DESCRIPTION:Procrastinating now that the sun is out? You’re not alone—and this crawl is here to help you finish strong this semester. Join us for a fun\, low‑pressure study crawl across the Lawrence campus with built‑in motivation (tutors\, librarians\, and snacks!). Start your study journey in the Tutoring Center (L202)\, then move to Lawrence Campus Library (L007)\, and reward yourself by watching a Kanopy collection of STASH Animated short films in L244. Come on your own or bring your study buddies. Stay for the entire crawl or just drop in! \nThe Study Crawl schedule:\n12:00 – 1:00 pm – Tutoring Center L202 (pizza)\n1:30 – 2:30 pm – Lawrence Campus Library L007 (coffee/tea/donuts)\n3:00 – 4:00 pm – L244 for short films with popcorn \nFor more information\, contact Madison King or Grace Spaulding. \n Print View
URL:https://necc.edu/event/spring-semester-study-crawl-2/
LOCATION:Lawrence Campus\, Lawrence\, MA\, United States
CATEGORIES:Library,Student Activities,Student Life,Student Support Resources
ORGANIZER;CN="Susan Leonardi":MAILTO:sleonardi@necc.mass.edu
GEO:42.70734;-71.161052
END:VEVENT
BEGIN:VEVENT
DTSTART;TZID=America/New_York:20260430T130000
DTEND;TZID=America/New_York:20260430T140000
DTSTAMP:20260422T190131
CREATED:20260206T133727Z
LAST-MODIFIED:20260206T133727Z
UID:10011446-1777554000-1777557600@necc.edu
SUMMARY:Faculty/Staff Book Club: Song of Achilles by Madeline Miller
DESCRIPTION:Who doesn’t love a good queer myth retelling?? This one has been on our TBR for years. The Song of Achilles is “a tale of gods\, kings\, immortal fame\, and the human heart” and a “thrilling\, profoundly moving\, and utterly unique retelling of the legend of Achilles and the Trojan War.” This is NOT your mother’s 2003 blockbuster Troy starring Brad Pitt and Diane Kruger!!  \nFind the ebook on Libby here: https://share.libbyapp.com/title/676344 and the audiobook here: https://share.libbyapp.com/title/778961 or reach out to a librarian at library@necc.mass.edu if you would like help getting a physical copy.  \nBentley Library in Haverhill \n Print View
URL:https://necc.edu/event/faculty-staff-book-club-song-of-achilles-by-madeline-miller/
LOCATION:Haverhill Campus\, 100 Elliott St\, Haverhill\, MA\, United States
CATEGORIES:Home Page Events,Liberal Arts Center,Library
ORGANIZER;CN="Susan Leonardi":MAILTO:sleonardi@necc.mass.edu
GEO:42.797649;-71.05113
X-APPLE-STRUCTURED-LOCATION;VALUE=URI;X-ADDRESS=Haverhill Campus 100 Elliott St Haverhill MA United States;X-APPLE-RADIUS=500;X-TITLE=100 Elliott St:geo:-71.05113,42.797649
END:VEVENT
BEGIN:VEVENT
DTSTART;TZID=America/New_York:20260505T180000
DTEND;TZID=America/New_York:20260505T190000
DTSTAMP:20260422T190131
CREATED:20260410T193227Z
LAST-MODIFIED:20260410T193935Z
UID:10011604-1778004000-1778007600@necc.edu
SUMMARY:Brightspace Workshop
DESCRIPTION:NECC is moving from Blackboard to Brightspace starting this summer. \nJoin us to learn the basics of Brightspace\, including navigating your courses\, submitting assignments\, setting up notifications\, and much more. \nWorkshops will be offered in-person at both campuses and online. \nClick here to sign up for a workshop.  \n Print View
URL:https://necc.edu/event/brightspace-workshop/2026-05-05/
LOCATION:All Campuses\, Lawrence\, MA\, United States
CATEGORIES:Business and Accounting Center,Center for Health Professions,Center for STEM,Liberal Arts Center,Library,PACE,Professional Studies Center,SOAR,Student Life,Student Support Resources,The Commons
ORGANIZER;CN="Susan Leonardi":MAILTO:sleonardi@necc.mass.edu
GEO:42.709053;-71.169601
END:VEVENT
BEGIN:VEVENT
DTSTART;TZID=America/New_York:20260514T110000
DTEND;TZID=America/New_York:20260514T120000
DTSTAMP:20260422T190131
CREATED:20260410T193227Z
LAST-MODIFIED:20260410T193935Z
UID:10011610-1778756400-1778760000@necc.edu
SUMMARY:Brightspace Workshop
DESCRIPTION:NECC is moving from Blackboard to Brightspace starting this summer. \nJoin us to learn the basics of Brightspace\, including navigating your courses\, submitting assignments\, setting up notifications\, and much more. \nWorkshops will be offered in-person at both campuses and online. \nClick here to sign up for a workshop.  \n Print View
URL:https://necc.edu/event/brightspace-workshop/2026-05-14/1/
LOCATION:All Campuses\, Lawrence\, MA\, United States
CATEGORIES:Business and Accounting Center,Center for Health Professions,Center for STEM,Liberal Arts Center,Library,PACE,Professional Studies Center,SOAR,Student Life,Student Support Resources,The Commons
ORGANIZER;CN="Susan Leonardi":MAILTO:sleonardi@necc.mass.edu
GEO:42.709053;-71.169601
END:VEVENT
BEGIN:VEVENT
DTSTART;TZID=America/New_York:20260514T180000
DTEND;TZID=America/New_York:20260514T190000
DTSTAMP:20260422T190131
CREATED:20260410T193227Z
LAST-MODIFIED:20260410T193935Z
UID:10011611-1778781600-1778785200@necc.edu
SUMMARY:Brightspace Workshop
DESCRIPTION:NECC is moving from Blackboard to Brightspace starting this summer. \nJoin us to learn the basics of Brightspace\, including navigating your courses\, submitting assignments\, setting up notifications\, and much more. \nWorkshops will be offered in-person at both campuses and online. \nClick here to sign up for a workshop.  \n Print View
URL:https://necc.edu/event/brightspace-workshop/2026-05-14/2/
LOCATION:All Campuses\, Lawrence\, MA\, United States
CATEGORIES:Business and Accounting Center,Center for Health Professions,Center for STEM,Liberal Arts Center,Library,PACE,Professional Studies Center,SOAR,Student Life,Student Support Resources,The Commons
ORGANIZER;CN="Susan Leonardi":MAILTO:sleonardi@necc.mass.edu
GEO:42.709053;-71.169601
END:VEVENT
BEGIN:VEVENT
DTSTART;TZID=America/New_York:20260515T110000
DTEND;TZID=America/New_York:20260515T120000
DTSTAMP:20260422T190131
CREATED:20260410T193227Z
LAST-MODIFIED:20260410T193935Z
UID:10011612-1778842800-1778846400@necc.edu
SUMMARY:Brightspace Workshop
DESCRIPTION:NECC is moving from Blackboard to Brightspace starting this summer. \nJoin us to learn the basics of Brightspace\, including navigating your courses\, submitting assignments\, setting up notifications\, and much more. \nWorkshops will be offered in-person at both campuses and online. \nClick here to sign up for a workshop.  \n Print View
URL:https://necc.edu/event/brightspace-workshop/2026-05-15/
LOCATION:All Campuses\, Lawrence\, MA\, United States
CATEGORIES:Business and Accounting Center,Center for Health Professions,Center for STEM,Liberal Arts Center,Library,PACE,Professional Studies Center,SOAR,Student Life,Student Support Resources,The Commons
ORGANIZER;CN="Susan Leonardi":MAILTO:sleonardi@necc.mass.edu
GEO:42.709053;-71.169601
END:VEVENT
BEGIN:VEVENT
DTSTART;TZID=America/New_York:20260528T130000
DTEND;TZID=America/New_York:20260528T140000
DTSTAMP:20260422T190131
CREATED:20260206T134023Z
LAST-MODIFIED:20260206T134134Z
UID:10011447-1779973200-1779976800@necc.edu
SUMMARY:Faculty/Staff Book Club: The Names\, by Florence Knapp
DESCRIPTION:Just in time for Suzanne to have to name her own baby\, let’s read The Names by Florence Knapp\, an “extraordinary novel that asks: can a name change the course of a life?” Let’s find out! \nFind the ebook on Libby here: https://share.libbyapp.com/title/11078128 and the audiobook here: https://share.libbyapp.com/title/11126192 or reach out to a librarian at library@necc.mass.edu if you would like help requesting a physical copy. \nLawrence Campus Library \n Print View
URL:https://necc.edu/event/faculty-staff-book-club-the-names-by-florence-knapp/
LOCATION:Lawrence Campus\, Lawrence\, MA\, United States
CATEGORIES:Home Page Events,Liberal Arts Center,Library
ORGANIZER;CN="Susan Leonardi":MAILTO:sleonardi@necc.mass.edu
GEO:42.70734;-71.161052
END:VEVENT
END:VCALENDAR