BEGIN:VCALENDAR
VERSION:2.0
PRODID:-//Northern Essex CC - ECPv6.15.12//NONSGML v1.0//EN
CALSCALE:GREGORIAN
METHOD:PUBLISH
X-WR-CALNAME:Northern Essex CC
X-ORIGINAL-URL:https://necc.edu
X-WR-CALDESC:Events for Northern Essex CC
REFRESH-INTERVAL;VALUE=DURATION:PT1H
X-Robots-Tag:noindex
X-PUBLISHED-TTL:PT1H
BEGIN:VTIMEZONE
TZID:America/New_York
BEGIN:DAYLIGHT
TZOFFSETFROM:-0500
TZOFFSETTO:-0400
TZNAME:EDT
DTSTART:20250309T070000
END:DAYLIGHT
BEGIN:STANDARD
TZOFFSETFROM:-0400
TZOFFSETTO:-0500
TZNAME:EST
DTSTART:20251102T060000
END:STANDARD
BEGIN:DAYLIGHT
TZOFFSETFROM:-0500
TZOFFSETTO:-0400
TZNAME:EDT
DTSTART:20260308T070000
END:DAYLIGHT
BEGIN:STANDARD
TZOFFSETFROM:-0400
TZOFFSETTO:-0500
TZNAME:EST
DTSTART:20261101T060000
END:STANDARD
BEGIN:DAYLIGHT
TZOFFSETFROM:-0500
TZOFFSETTO:-0400
TZNAME:EDT
DTSTART:20270314T070000
END:DAYLIGHT
BEGIN:STANDARD
TZOFFSETFROM:-0400
TZOFFSETTO:-0500
TZNAME:EST
DTSTART:20271107T060000
END:STANDARD
END:VTIMEZONE
BEGIN:VEVENT
DTSTART;TZID=America/New_York:20260423T100000
DTEND;TZID=America/New_York:20260423T110000
DTSTAMP:20260422T142825
CREATED:20260309T131943Z
LAST-MODIFIED:20260309T175047Z
UID:10011514-1776938400-1776942000@necc.edu
SUMMARY:Information Session: American Sign Language Studies
DESCRIPTION:Please join us for our American Sign Language Studies information session. This meeting will be interpreted. Potential students will have an opportunity to ask questions about the program\, career pathways\, and transfer options that relate to the field of ASL Studies. \nASL Studies is a unique course of study that allows students to enter a rich linguistic and cultural world. We are proud to offer courses that prepare students to work with Deaf/hard of hearing people.\nThis information session is online\, and you must register via the link provided below.\nWe look forward to seeing you there!\nPlease click the link below.\nRegister here \n Print View
URL:https://necc.edu/event/information-session-american-sign-language-studies-3/2026-04-23/
LOCATION:Online\, United States
CATEGORIES:All Info Sessions,American Sign Language Studies Info Session
ORGANIZER;CN="ASL Studies":MAILTO:deafstudies@necc.mass.edu
END:VEVENT
BEGIN:VEVENT
DTSTART;TZID=America/New_York:20260427T130000
DTEND;TZID=America/New_York:20260427T140000
DTSTAMP:20260422T142825
CREATED:20260130T135353Z
LAST-MODIFIED:20260130T135353Z
UID:10011403-1777294800-1777298400@necc.edu
SUMMARY:Info Session: Dental Assisting - Online
DESCRIPTION:At the Information Session you can learn more about what it’s like to be a student in NECC’s Dental Program.\nAttend a Dental Assisting Information Session and Learn More About the Program and NECC\nJoin us for a Dental Assisting Program Information Session and you can: \n\nGet answers to all of your questions about the Dental Assisting Certificate and NECC.\nDiscover career pathways.\n\nDental assistants provide patient care and maintain patient records\, in addition to working closely with dentists and dental hygienists and assisting during procedures and examinations. Job opportunities are excellent and are expected to continue to grow\, especially as research continues to show the link between oral health and overall health. \nThe NECC Dental Assisting Certificate is a criteria-based health program and therefore requires students to attend an information session. \nView all of the Health Information Session Dates \nRegister in Advance\nPlease register online here in advance for the information session. \nThe meeting will take place online with Zoom. After registering\, you will receive a confirmation email containing information about joining the meeting. \nMore Information\nFor more information\, or for sign language interpreting\, please contact Davann Chhem\, Program Coordinator at 978-738-7657. \n Print View
URL:https://necc.edu/event/info-session-dental-assisting-online-4/
LOCATION:Online\, United States
CATEGORIES:Dental Info Sessions,Health Info Sessions
ORGANIZER;CN="Davann Chhem":MAILTO:dchhem@necc.mass.edu
END:VEVENT
BEGIN:VEVENT
DTSTART;TZID=America/New_York:20260508T123000
DTEND;TZID=America/New_York:20260508T133000
DTSTAMP:20260422T142825
CREATED:20260323T152237Z
LAST-MODIFIED:20260323T152445Z
UID:10011543-1778243400-1778247000@necc.edu
SUMMARY:Information Session: Public Health & Community Health Worker - Online - Online
DESCRIPTION:Attend a Public Health & Community Health Worker Information Session and Learn More About the Programs and NECC!\nJoin the Info Session Online\nThe meeting will take place online with Zoom: \nhttps://zoom.us/j/5500949554 \nZoom Meeting ID\n550 094 9554 \nOne-Tap mobile\n+13092053325\,\,5500949554# US \n+13126266799\,\,5500949554# US (Chicago) \nMore Information\nFor more information please contact Amanda Prophett\, Program Coordinator at 978-655-5875 or email aprophett@necc.mass.edu. \n Print View
URL:https://necc.edu/event/information-session-public-health-community-health-worker-online-online-4/
LOCATION:Online\, United States
CATEGORIES:Community Health Worker,Health Info Sessions,Home Page Events,Public Health Info Session
ORGANIZER;CN="Jeanette Liberato":MAILTO:jliberato@necc.mass.edu
END:VEVENT
BEGIN:VEVENT
DTSTART;TZID=America/New_York:20260511T080000
DTEND;TZID=America/New_York:20260511T170000
DTSTAMP:20260422T142825
CREATED:20260414T162953Z
LAST-MODIFIED:20260414T162953Z
UID:10011713-1778486400-1778518800@necc.edu
SUMMARY:Prep for Success Online Course
DESCRIPTION:This one-week online course will equip you with the skills and knowledge needed to thrive online. Hosted on NECC’s new Brightspace platform\, the course provides hands-on practice with the technologies and strategies used in online courses. Whether you’re new to online learning or need a refresher\, the course instructor and fellow students will support you in building your confidence and comfort with digital tools. By the end\, you’ll be prepared to succeed in any online or blended NECC course. This course is highly recommended for students who are new to online learning.  \nSummer Session I: Monday\, May 11 – Sunday\, May 17\, 2026 \nRegister Today! \nPre-registration is required: Prep for Success Online Registration Form \n Print View
URL:https://necc.edu/event/prep-for-success-online-course-2/2026-05-11/
LOCATION:Online\, United States
CATEGORIES:SOAR,Student Activities,Student Support Resources
END:VEVENT
BEGIN:VEVENT
DTSTART;TZID=America/New_York:20260511T130000
DTEND;TZID=America/New_York:20260511T140000
DTSTAMP:20260422T142825
CREATED:20260130T135518Z
LAST-MODIFIED:20260130T135518Z
UID:10011404-1778504400-1778508000@necc.edu
SUMMARY:Info Session: Dental Assisting - Online
DESCRIPTION:At the Information Session you can learn more about what it’s like to be a student in NECC’s Dental Program.\nAttend a Dental Assisting Information Session and Learn More About the Program and NECC\nJoin us for a Dental Assisting Program Information Session and you can: \n\nGet answers to all of your questions about the Dental Assisting Certificate and NECC.\nDiscover career pathways.\n\nDental assistants provide patient care and maintain patient records\, in addition to working closely with dentists and dental hygienists and assisting during procedures and examinations. Job opportunities are excellent and are expected to continue to grow\, especially as research continues to show the link between oral health and overall health. \nThe NECC Dental Assisting Certificate is a criteria-based health program and therefore requires students to attend an information session. \nView all of the Health Information Session Dates \nRegister in Advance\nPlease register online here in advance for the information session. \nThe meeting will take place online with Zoom. After registering\, you will receive a confirmation email containing information about joining the meeting. \nMore Information\nFor more information\, or for sign language interpreting\, please contact Davann Chhem\, Program Coordinator at 978-738-7657. \n Print View
URL:https://necc.edu/event/info-session-dental-assisting-online-5/
LOCATION:Online\, United States
CATEGORIES:Dental Info Sessions,Health Info Sessions
ORGANIZER;CN="Davann Chhem":MAILTO:dchhem@necc.mass.edu
END:VEVENT
BEGIN:VEVENT
DTSTART;TZID=America/New_York:20260512T080000
DTEND;TZID=America/New_York:20260512T170000
DTSTAMP:20260422T142825
CREATED:20260414T162953Z
LAST-MODIFIED:20260414T162953Z
UID:10011714-1778572800-1778605200@necc.edu
SUMMARY:Prep for Success Online Course
DESCRIPTION:This one-week online course will equip you with the skills and knowledge needed to thrive online. Hosted on NECC’s new Brightspace platform\, the course provides hands-on practice with the technologies and strategies used in online courses. Whether you’re new to online learning or need a refresher\, the course instructor and fellow students will support you in building your confidence and comfort with digital tools. By the end\, you’ll be prepared to succeed in any online or blended NECC course. This course is highly recommended for students who are new to online learning.  \nSummer Session I: Monday\, May 11 – Sunday\, May 17\, 2026 \nRegister Today! \nPre-registration is required: Prep for Success Online Registration Form \n Print View
URL:https://necc.edu/event/prep-for-success-online-course-2/2026-05-12/
LOCATION:Online\, United States
CATEGORIES:SOAR,Student Activities,Student Support Resources
END:VEVENT
BEGIN:VEVENT
DTSTART;TZID=America/New_York:20260513T080000
DTEND;TZID=America/New_York:20260513T170000
DTSTAMP:20260422T142825
CREATED:20260414T162953Z
LAST-MODIFIED:20260414T162953Z
UID:10011715-1778659200-1778691600@necc.edu
SUMMARY:Prep for Success Online Course
DESCRIPTION:This one-week online course will equip you with the skills and knowledge needed to thrive online. Hosted on NECC’s new Brightspace platform\, the course provides hands-on practice with the technologies and strategies used in online courses. Whether you’re new to online learning or need a refresher\, the course instructor and fellow students will support you in building your confidence and comfort with digital tools. By the end\, you’ll be prepared to succeed in any online or blended NECC course. This course is highly recommended for students who are new to online learning.  \nSummer Session I: Monday\, May 11 – Sunday\, May 17\, 2026 \nRegister Today! \nPre-registration is required: Prep for Success Online Registration Form \n Print View
URL:https://necc.edu/event/prep-for-success-online-course-2/2026-05-13/
LOCATION:Online\, United States
CATEGORIES:SOAR,Student Activities,Student Support Resources
END:VEVENT
BEGIN:VEVENT
DTSTART;TZID=America/New_York:20260513T180000
DTEND;TZID=America/New_York:20260513T190000
DTSTAMP:20260422T142825
CREATED:20230914T174405Z
LAST-MODIFIED:20260406T151228Z
UID:10011196-1778695200-1778698800@necc.edu
SUMMARY:Info Session: Free Community College
DESCRIPTION:Join us for a MassEducate & MassReconnect Information Session virtually on Zoom!\nLearn how MassEducate and MassReconnect can provide funding for Massachusetts residents to earn a college degree at no cost. Attendees will learn about eligibility requirements\, and will be offered the ability to apply on the spot if desired. \nRegister Now!\n Print View
URL:https://necc.edu/event/massreconnect-information-session-virtual-online/2026-05-13/
LOCATION:Online\, United States
CATEGORIES:Admissions,All Info Sessions,Home Page Events,Info Sessions and Tours,Online Information Session
ORGANIZER;CN="Enrollment Services":MAILTO:enrollmentservices@necc.mass.edu
END:VEVENT
BEGIN:VEVENT
DTSTART;TZID=America/New_York:20260514T080000
DTEND;TZID=America/New_York:20260514T170000
DTSTAMP:20260422T142825
CREATED:20260414T162953Z
LAST-MODIFIED:20260414T162953Z
UID:10011716-1778745600-1778778000@necc.edu
SUMMARY:Prep for Success Online Course
DESCRIPTION:This one-week online course will equip you with the skills and knowledge needed to thrive online. Hosted on NECC’s new Brightspace platform\, the course provides hands-on practice with the technologies and strategies used in online courses. Whether you’re new to online learning or need a refresher\, the course instructor and fellow students will support you in building your confidence and comfort with digital tools. By the end\, you’ll be prepared to succeed in any online or blended NECC course. This course is highly recommended for students who are new to online learning.  \nSummer Session I: Monday\, May 11 – Sunday\, May 17\, 2026 \nRegister Today! \nPre-registration is required: Prep for Success Online Registration Form \n Print View
URL:https://necc.edu/event/prep-for-success-online-course-2/2026-05-14/
LOCATION:Online\, United States
CATEGORIES:SOAR,Student Activities,Student Support Resources
END:VEVENT
BEGIN:VEVENT
DTSTART;TZID=America/New_York:20260515T080000
DTEND;TZID=America/New_York:20260515T170000
DTSTAMP:20260422T142825
CREATED:20260414T162953Z
LAST-MODIFIED:20260414T162953Z
UID:10011717-1778832000-1778864400@necc.edu
SUMMARY:Prep for Success Online Course
DESCRIPTION:This one-week online course will equip you with the skills and knowledge needed to thrive online. Hosted on NECC’s new Brightspace platform\, the course provides hands-on practice with the technologies and strategies used in online courses. Whether you’re new to online learning or need a refresher\, the course instructor and fellow students will support you in building your confidence and comfort with digital tools. By the end\, you’ll be prepared to succeed in any online or blended NECC course. This course is highly recommended for students who are new to online learning.  \nSummer Session I: Monday\, May 11 – Sunday\, May 17\, 2026 \nRegister Today! \nPre-registration is required: Prep for Success Online Registration Form \n Print View
URL:https://necc.edu/event/prep-for-success-online-course-2/2026-05-15/
LOCATION:Online\, United States
CATEGORIES:SOAR,Student Activities,Student Support Resources
END:VEVENT
BEGIN:VEVENT
DTSTART;TZID=America/New_York:20260516T080000
DTEND;TZID=America/New_York:20260516T170000
DTSTAMP:20260422T142825
CREATED:20260414T162953Z
LAST-MODIFIED:20260414T162953Z
UID:10011718-1778918400-1778950800@necc.edu
SUMMARY:Prep for Success Online Course
DESCRIPTION:This one-week online course will equip you with the skills and knowledge needed to thrive online. Hosted on NECC’s new Brightspace platform\, the course provides hands-on practice with the technologies and strategies used in online courses. Whether you’re new to online learning or need a refresher\, the course instructor and fellow students will support you in building your confidence and comfort with digital tools. By the end\, you’ll be prepared to succeed in any online or blended NECC course. This course is highly recommended for students who are new to online learning.  \nSummer Session I: Monday\, May 11 – Sunday\, May 17\, 2026 \nRegister Today! \nPre-registration is required: Prep for Success Online Registration Form \n Print View
URL:https://necc.edu/event/prep-for-success-online-course-2/2026-05-16/
LOCATION:Online\, United States
CATEGORIES:SOAR,Student Activities,Student Support Resources
END:VEVENT
BEGIN:VEVENT
DTSTART;TZID=America/New_York:20260517T080000
DTEND;TZID=America/New_York:20260517T170000
DTSTAMP:20260422T142825
CREATED:20260414T162953Z
LAST-MODIFIED:20260414T162953Z
UID:10011719-1779004800-1779037200@necc.edu
SUMMARY:Prep for Success Online Course
DESCRIPTION:This one-week online course will equip you with the skills and knowledge needed to thrive online. Hosted on NECC’s new Brightspace platform\, the course provides hands-on practice with the technologies and strategies used in online courses. Whether you’re new to online learning or need a refresher\, the course instructor and fellow students will support you in building your confidence and comfort with digital tools. By the end\, you’ll be prepared to succeed in any online or blended NECC course. This course is highly recommended for students who are new to online learning.  \nSummer Session I: Monday\, May 11 – Sunday\, May 17\, 2026 \nRegister Today! \nPre-registration is required: Prep for Success Online Registration Form \n Print View
URL:https://necc.edu/event/prep-for-success-online-course-2/2026-05-17/
LOCATION:Online\, United States
CATEGORIES:SOAR,Student Activities,Student Support Resources
END:VEVENT
BEGIN:VEVENT
DTSTART;TZID=America/New_York:20260518T130000
DTEND;TZID=America/New_York:20260518T140000
DTSTAMP:20260422T142825
CREATED:20260130T135654Z
LAST-MODIFIED:20260130T135654Z
UID:10011405-1779109200-1779112800@necc.edu
SUMMARY:Info Session: Dental Assisting - Online
DESCRIPTION:At the Information Session you can learn more about what it’s like to be a student in NECC’s Dental Program.\nAttend a Dental Assisting Information Session and Learn More About the Program and NECC\nJoin us for a Dental Assisting Program Information Session and you can: \n\nGet answers to all of your questions about the Dental Assisting Certificate and NECC.\nDiscover career pathways.\n\nDental assistants provide patient care and maintain patient records\, in addition to working closely with dentists and dental hygienists and assisting during procedures and examinations. Job opportunities are excellent and are expected to continue to grow\, especially as research continues to show the link between oral health and overall health. \nThe NECC Dental Assisting Certificate is a criteria-based health program and therefore requires students to attend an information session. \nView all of the Health Information Session Dates \nRegister in Advance\nPlease register online here in advance for the information session. \nThe meeting will take place online with Zoom. After registering\, you will receive a confirmation email containing information about joining the meeting. \nMore Information\nFor more information\, or for sign language interpreting\, please contact Davann Chhem\, Program Coordinator at 978-738-7657. \n Print View
URL:https://necc.edu/event/info-session-dental-assisting-online-6/
LOCATION:Online\, United States
CATEGORIES:Dental Info Sessions,Health Info Sessions
ORGANIZER;CN="Davann Chhem":MAILTO:dchhem@necc.mass.edu
END:VEVENT
BEGIN:VEVENT
DTSTART;TZID=America/New_York:20260610T180000
DTEND;TZID=America/New_York:20260610T190000
DTSTAMP:20260422T142825
CREATED:20230914T174405Z
LAST-MODIFIED:20260406T151228Z
UID:10011197-1781114400-1781118000@necc.edu
SUMMARY:Info Session: Free Community College
DESCRIPTION:Join us for a MassEducate & MassReconnect Information Session virtually on Zoom!\nLearn how MassEducate and MassReconnect can provide funding for Massachusetts residents to earn a college degree at no cost. Attendees will learn about eligibility requirements\, and will be offered the ability to apply on the spot if desired. \nRegister Now!\n Print View
URL:https://necc.edu/event/massreconnect-information-session-virtual-online/2026-06-10/
LOCATION:Online\, United States
CATEGORIES:Admissions,All Info Sessions,Home Page Events,Info Sessions and Tours,Online Information Session
ORGANIZER;CN="Enrollment Services":MAILTO:enrollmentservices@necc.mass.edu
END:VEVENT
END:VCALENDAR